BEGIN:VCALENDAR
VERSION:2.0
PRODID:-//ChamberMaster//Event Calendar 2.0//EN
METHOD:PUBLISH
X-PUBLISHED-TTL:P3D
REFRESH-INTERVAL:P3D
CALSCALE:GREGORIAN
BEGIN:VEVENT
DTSTART:20251003T210000Z
DTEND:20251004T000000Z
X-MICROSOFT-CDO-ALLDAYEVENT:FALSE
SUMMARY:October A.R.T.S Vendor Market
DESCRIPTION:Join us for First Friday on October 3\, from 5 8 PM! Don't miss our vibrant A.R.T.S. Vendor Market\, where local makers and artists showcase their unique creations. In addition to the market\, enjoy a fun children's activity and explore two exciting exhibitions: Shadowlands AAMC Annual Exhibition Admission is FREE   bring your friends and family for an evening of art\, community\, and creativity!
X-ALT-DESC;FMTTYPE=text/html:Join us for First Friday on October 3\, from 5&ndash\;8 PM! Don&rsquo\;t miss our vibrant A.R.T.S. Vendor Market\, where local makers and artists showcase their unique creations. In addition to the market\, enjoy a fun children&#39\;s activity and explore two exciting exhibitions: Shadowlands AAMC Annual Exhibition Admission is FREE &ndash\; bring your friends and family for an evening of art\, community\, and creativity!
LOCATION:Anderson Museum of Art
UID:e.1371.19146
SEQUENCE:3
DTSTAMP:20260421T111704Z
URL:http://business.madisoncountyalliance.org/events/details/october-a-r-t-s-vendor-market-19146
END:VEVENT

END:VCALENDAR
