BEGIN:VCALENDAR
VERSION:2.0
PRODID:-//ChamberMaster//Event Calendar 2.0//EN
METHOD:PUBLISH
X-PUBLISHED-TTL:P3D
REFRESH-INTERVAL:P3D
CALSCALE:GREGORIAN
BEGIN:VEVENT
DTSTART;VALUE=DATE:20250927
DTEND;VALUE=DATE:20250928
TRANSP:TRANSPARENT
X-MICROSOFT-CDO-ALLDAYEVENT:TRUE
SUMMARY:Oktoberfest
DESCRIPTION:Join us at Creatures of Habit Brewing Co. for our Oktoberfest celebration! We'll be releasing our special Oktoberfest beer\, perfect for the season. Enjoy delicious house-made brats\, savory sauerkraut balls\, and mouthwatering German apple cake. Bring your friends and celebrate Bavarian style with great beer\, food\, and fun!
X-ALT-DESC;FMTTYPE=text/html:Join us at Creatures of Habit Brewing Co. for our Oktoberfest celebration! We&rsquo\;ll be releasing our special Oktoberfest beer\, perfect for the season. Enjoy delicious house-made brats\, savory sauerkraut balls\, and mouthwatering German apple cake. Bring your friends and celebrate Bavarian style with great beer\, food\, and fun!
LOCATION:Creatures of Habit Brewing Co. 1031 Meridian St.
UID:e.1371.19145
SEQUENCE:3
DTSTAMP:20260421T115008Z
URL:http://business.madisoncountyalliance.org/events/details/oktoberfest-19145
END:VEVENT

END:VCALENDAR
