BEGIN:VCALENDAR
VERSION:2.0
PRODID:-//ChamberMaster//Event Calendar 2.0//EN
METHOD:PUBLISH
X-PUBLISHED-TTL:P3D
REFRESH-INTERVAL:P3D
CALSCALE:GREGORIAN
BEGIN:VEVENT
DTSTART:20251108T050000Z
DTEND:20260105T220000Z
X-MICROSOFT-CDO-ALLDAYEVENT:FALSE
SUMMARY:Open Space\, Art About The Land Exhibition
DESCRIPTION:We are excited to announce our annual exhibition\, Open Space\, in collaboration with Minnetrista Museum & Gardens and Red-tail Land Conservancy. Open Space will be open to the public starting November 8 and will be up for public viewing until January 5.
X-ALT-DESC;FMTTYPE=text/html:We are excited to announce our annual exhibition\, Open Space\, in collaboration with Minnetrista Museum &amp\; Gardens and Red-tail Land Conservancy. Open Space will be open to the public starting November 8 and will be up for public viewing until January 5.
LOCATION:Anderson Museum of Art
UID:e.1371.19154
SEQUENCE:3
DTSTAMP:20260421T053409Z
URL:http://business.madisoncountyalliance.org/events/details/open-space-art-about-the-land-exhibition-19154
END:VEVENT

END:VCALENDAR
