BEGIN:VCALENDAR
VERSION:2.0
PRODID:-//ChamberMaster//Event Calendar 2.0//EN
METHOD:PUBLISH
X-PUBLISHED-TTL:P3D
REFRESH-INTERVAL:P3D
CALSCALE:GREGORIAN
BEGIN:VEVENT
DTSTART:20231103T170000Z
DTEND:20240106T200000Z
X-MICROSOFT-CDO-ALLDAYEVENT:FALSE
SUMMARY:Open Space Exhibition
DESCRIPTION:Special art show/exhibition at the Anderson Museum of Art.
X-ALT-DESC;FMTTYPE=text/html:Special art show/exhibition at the Anderson Museum of Art.
LOCATION:Anderson Museum of Art
UID:e.1371.18325
SEQUENCE:3
DTSTAMP:20260422T160706Z
URL:http://business.madisoncountyalliance.org/events/details/open-space-exhibition-18325
END:VEVENT

END:VCALENDAR
