BEGIN:VCALENDAR
VERSION:2.0
PRODID:-//ChamberMaster//Event Calendar 2.0//EN
METHOD:PUBLISH
X-PUBLISHED-TTL:P3D
REFRESH-INTERVAL:P3D
CALSCALE:GREGORIAN
BEGIN:VEVENT
DTSTART:20231103T210000Z
DTEND:20231104T000000Z
X-MICROSOFT-CDO-ALLDAYEVENT:FALSE
SUMMARY:Open Space: Opening Reception & Awards Ceremony at Anderson Museum of Art
DESCRIPTION:Since 2001\, Open Space: Art About the Land\, an annual art competition and exhibition\, has encouraged Indiana artists to derive creative inspiration from the land and recognized new artistic creations that celebrate the notion of "open space" as it relates to the land. Reimagined this year as an "art trail\," this exhibition will be opened simultaneously as two sister exhibitions across East Central Indiana: at Minnetrista Museum & Gardens and the Anderson Museum of Art. Developed by the two museums in partnership with Red-tail Land Conservancy\, a portion of the event's proceeds will benefit Red-tail's work to preserve and restore vital wildlife habitats and natural beauty.
X-ALT-DESC;FMTTYPE=text/html:Since 2001\, Open Space: Art About the Land\, an annual art competition and exhibition\, has encouraged Indiana artists to derive creative inspiration from the land and recognized new artistic creations that celebrate the notion of &ldquo\;open space&rdquo\; as it relates to the land. Reimagined this year as an &ldquo\;art trail\,&rdquo\; this exhibition will be opened simultaneously as two sister exhibitions across East Central Indiana: at Minnetrista Museum &amp\; Gardens and the Anderson Museum of Art. Developed by the two museums in partnership with Red-tail Land Conservancy\, a portion of the event&rsquo\;s proceeds will benefit Red-tail&rsquo\;s work to preserve and restore vital wildlife habitats and natural beauty.
LOCATION:Anderson Museum of Art 32 Hst W 10th St\, Anderson\, IN 46016
UID:e.1371.18779
SEQUENCE:3
DTSTAMP:20260422T185824Z
URL:http://business.madisoncountyalliance.org/events/details/open-space-opening-reception-awards-ceremony-at-anderson-museum-of-art-18779
END:VEVENT

END:VCALENDAR
