BEGIN:VCALENDAR
VERSION:2.0
PRODID:-//ChamberMaster//Event Calendar 2.0//EN
METHOD:PUBLISH
X-PUBLISHED-TTL:P3D
REFRESH-INTERVAL:P3D
CALSCALE:GREGORIAN
BEGIN:VEVENT
DTSTART;VALUE=DATE:20250809
DTEND;VALUE=DATE:20250811
TRANSP:TRANSPARENT
X-MICROSOFT-CDO-ALLDAYEVENT:TRUE
SUMMARY:Paddles for Paws
DESCRIPTION:Paddles for Paws is a fun-filled pickleball tournament benefiting the Madison County Humane Society\, happening August 9 10\, 2025\, at Community Sports & Wellness in Pendleton\, IN. The event features Women's and Men's Doubles on Saturday and Mixed Doubles on Sunday. Players will enjoy swag bags\, a caf  voucher\, raffles\, and prize giveaways   plus\, adoptable pets will be on-site all weekend. Registration is $65 via Pickleball Brackets
X-ALT-DESC;FMTTYPE=text/html:Paddles for Paws is a fun-filled pickleball tournament benefiting the Madison County Humane Society\, happening August 9&ndash\;10\, 2025\, at Community Sports &amp\; Wellness in Pendleton\, IN. The event features Women&rsquo\;s and Men&rsquo\;s Doubles on Saturday and Mixed Doubles on Sunday. Players will enjoy swag bags\, a caf&eacute\; voucher\, raffles\, and prize giveaways &mdash\; plus\, adoptable pets will be on-site all weekend. Registration is $65 via Pickleball Brackets
LOCATION:Community Sports and Wellness 395 S Heritage Way\, Pendleton\, IN 46064
UID:e.1371.19116
SEQUENCE:3
DTSTAMP:20260421T124015Z
URL:http://business.madisoncountyalliance.org/events/details/paddles-for-paws-19116
END:VEVENT

END:VCALENDAR
