BEGIN:VCALENDAR
VERSION:2.0
PRODID:-//ChamberMaster//Event Calendar 2.0//EN
METHOD:PUBLISH
X-PUBLISHED-TTL:P3D
REFRESH-INTERVAL:P3D
CALSCALE:GREGORIAN
BEGIN:VEVENT
DTSTART:20230830T143000Z
DTEND:20230830T210000Z
X-MICROSOFT-CDO-ALLDAYEVENT:FALSE
SUMMARY:Paramount Theatre Golf Outing
DESCRIPTION:Paramount Theatre's 27th Annual Golf Outing 10:30 Shot Gun Start Cash Prizes
X-ALT-DESC;FMTTYPE=text/html:Paramount Theatre&#39\;s 27th Annual Golf Outing 10:30 Shot Gun Start Cash Prizes
LOCATION:Anderson Country Club
UID:e.1371.18332
SEQUENCE:3
DTSTAMP:20260423T004926Z
URL:http://business.madisoncountyalliance.org/events/details/paramount-theatre-golf-outing-08-30-2023-18332
END:VEVENT

END:VCALENDAR
