BEGIN:VCALENDAR
VERSION:2.0
PRODID:-//ChamberMaster//Event Calendar 2.0//EN
METHOD:PUBLISH
X-PUBLISHED-TTL:P3D
REFRESH-INTERVAL:P3D
CALSCALE:GREGORIAN
BEGIN:VEVENT
DTSTART:20240216T140000Z
DTEND:20240216T160000Z
X-MICROSOFT-CDO-ALLDAYEVENT:FALSE
SUMMARY:Pastries & Politics
DESCRIPTION:Pastries & Politics\n\nFriday\, February 16\, 2024\n\n9:00 a.m.\n\nUnion Building Atrium\n\n1106 Meridian Street\, Anderson
X-ALT-DESC;FMTTYPE=text/html:<strong><span style="font-size:18px\;">Pastries &amp\; Politics<br />\nFriday\, February 16\, 2024<br />\n9:00 a.m.</span><br />\nUnion Building Atrium</strong><br />\n1106 Meridian Street\, Anderson
LOCATION:Union Building Atrium 1106 Meridian Street\, Anderson
UID:e.1371.18852
SEQUENCE:3
DTSTAMP:20260422T144646Z
URL:http://business.madisoncountyalliance.org/events/details/pastries-politics-18852
END:VEVENT

END:VCALENDAR
