BEGIN:VCALENDAR
VERSION:2.0
PRODID:-//ChamberMaster//Event Calendar 2.0//EN
METHOD:PUBLISH
X-PUBLISHED-TTL:P3D
REFRESH-INTERVAL:P3D
CALSCALE:GREGORIAN
BEGIN:VEVENT
DTSTART:20230517T120000Z
DTEND:20230517T130000Z
X-MICROSOFT-CDO-ALLDAYEVENT:FALSE
SUMMARY:Power Up with the Chamber
DESCRIPTION:Power Up with the Chamber\n\nWednesday\, May 17th\n\nat Anderson Speedway\n\n\n\n8:00 a.m. - 9:00 a.m.\n\n(We will begin promptly at 8:00 a.m.)\n\nPRESENTING SPONSOR:  Pinnacle Systems\n\nSpecializing in Audio\, Video\, Network\, Intercom and Security\n\n\n\nWe are so excited to see all of you at our Power Up Event\n\nThe Madison County Chamber offers this informal networking event. Bring business cards to exchange. Snacks provided by Jack's Donuts!\n\n\n\nDon't forget your business cards!!!
X-ALT-DESC;FMTTYPE=text/html:<div font-size:="" style="color: rgb(51\, 51\, 51)\; font-family: sans-serif\, Arial\, Verdana\, " text-align:="" trebuchet=""><span style="font-size: 20px\;"><strong><span style="font-size: 24px\;">Power Up with the Chamber<br />\nWednesday\, May 17th</span></strong></span><br />\nat Anderson Speedway<br />\n<br />\n<span style="font-size: 18px\;">8:00 a.m. - 9:00 a.m.<br />\n<span style="font-size: 14px\;">(We will begin promptly&nbsp\;at 8:00 a.m.)</span></span></div>\n\n<p font-size:="" style="color: rgb(51\, 51\, 51)\; font-family: sans-serif\, Arial\, Verdana\, " text-align:="" trebuchet=""><strong><span style="font-size: 14px\;">PRESENTING SPONSOR:&nbsp\;&nbsp\;<span style="color: rgb(255\, 0\, 0)\;">Pinnacle Systems</span></span></strong><br />\n<em>Specializing in Audio\, Video\, Network\, Intercom and Security</em></p>\n\n<p font-size:="" style="color: rgb(51\, 51\, 51)\; font-family: sans-serif\, Arial\, Verdana\, " trebuchet=""><br />\n<span style="font-size: 14px\;"><strong>We are so excited to see all of you at our Power Up Event</strong></span><br />\n<span style="font-size: 14px\;">The Madison County Chamber offers this informal networking event. Bring business cards to exchange. Snacks provided by Jack&#39\;s Donuts!<br />\n<br />\n<span style="font-size:26px\;"><strong>Don&#39\;t forget your business cards!!!</strong></span></span><br />\n<br />\n&nbsp\;</p>\n
LOCATION:Anderson Speedway 1311 Martin Luther King Blvd. Anderson
UID:e.1371.12280
SEQUENCE:3
DTSTAMP:20260423T034459Z
URL:http://business.madisoncountyalliance.org/events/details/power-up-with-the-chamber-12280
END:VEVENT

END:VCALENDAR
