BEGIN:VCALENDAR
VERSION:2.0
PRODID:-//ChamberMaster//Event Calendar 2.0//EN
METHOD:PUBLISH
X-PUBLISHED-TTL:P3D
REFRESH-INTERVAL:P3D
CALSCALE:GREGORIAN
BEGIN:VEVENT
DTSTART:20230823T120000Z
DTEND:20230823T130000Z
X-MICROSOFT-CDO-ALLDAYEVENT:FALSE
SUMMARY:Power Up with the Chamber
DESCRIPTION:Power Up with the Chamber\n\nWednesday\, August 23rd\n\n8:00 a.m. - 9:00 a.m.\nHawks Point Acres\n4545 Madison Avenue\, Anderson\n\n \n\n \n\n\n\nWe are so excited to see all of you at our Power Up Event\n\nThe Madison County Chamber offers this informal networking event. Bring business cards to exchange. Snacks provided by Jack's Donuts!\n\n\n\nDon't forget your business cards!!!
X-ALT-DESC;FMTTYPE=text/html:<div font-size:="" style="color: rgb(51\, 51\, 51)\; font-family: sans-serif\, Arial\, Verdana\, " text-align:="" trebuchet=""><span style="font-size: 20px\;"><strong><span style="font-size: 24px\;">Power Up with the Chamber<br />\nWednesday\, August 23rd</span></strong></span><br />\n<strong style="color: rgb(51\, 51\, 51)\; font-family: sans-serif\, Arial\, Verdana\, &quot\;Trebuchet MS&quot\;\; font-size: 13px\; background-color: rgb(255\, 255\, 255)\;"><span style="font-size: 18px\;">8:00 a.m. - 9:00 a.m.</span></strong>\n<div><span style="font-size:16px\;"><strong>Hawks Point Acres</strong></span></div>\n<span style="font-size:16px\;"><strong>4545 Madison Avenue\, Anderson</strong></span></div>\n\n<div font-size:="" style="color: rgb(51\, 51\, 51)\; font-family: sans-serif\, Arial\, Verdana\, " text-align:="" trebuchet="">&nbsp\;</div>\n\n<p font-size:="" style="color: rgb(51\, 51\, 51)\; font-family: sans-serif\, Arial\, Verdana\, " text-align:="" trebuchet="">&nbsp\;</p>\n\n<p font-size:="" style="color: rgb(51\, 51\, 51)\; font-family: sans-serif\, Arial\, Verdana\, " trebuchet=""><br />\n<span style="font-size: 14px\;"><strong>We are so excited to see all of you at our Power Up Event</strong></span><br />\n<span style="font-size: 14px\;">The Madison County Chamber offers this informal networking event. Bring business cards to exchange. Snacks provided by Jack&#39\;s Donuts!<br />\n<br />\n<span style="font-size:26px\;"><strong>Don&#39\;t forget your business cards!!!</strong></span></span><br />\n<br />\n&nbsp\;</p>\n
LOCATION:Hawks Point Acres 4545 Madison Avenue\, Anderson
UID:e.1371.12283
SEQUENCE:3
DTSTAMP:20260422T232845Z
URL:http://business.madisoncountyalliance.org/events/details/power-up-with-the-chamber-12283
END:VEVENT

END:VCALENDAR
