BEGIN:VCALENDAR
VERSION:2.0
PRODID:-//ChamberMaster//Event Calendar 2.0//EN
METHOD:PUBLISH
X-PUBLISHED-TTL:P3D
REFRESH-INTERVAL:P3D
CALSCALE:GREGORIAN
BEGIN:VEVENT
DTSTART:20231114T130000Z
DTEND:20231114T140000Z
X-MICROSOFT-CDO-ALLDAYEVENT:FALSE
SUMMARY:Power Up with the Chamber
DESCRIPTION:Power Up with the Chamber\n\nSponsored by Pinnacle Systems\n\nTuesday\, November 14th\n\nThe Jetty Center\n\n1701 Medical Arts Blvd.\, Anderson\, IN\n\n\n\n\n\n8:00 a.m. - 9:00 a.m.\n\n(We will begin promptly at 8:00 a.m.)\n\n \n\n\n\nWe are so excited to see all of you at our Power Up Event\n\nThe Madison County Chamber offers this informal networking event. Bring business cards to exchange. Snacks provided by Jack's Donuts!\n\n\n\nDon't forget your business cards!!!
X-ALT-DESC;FMTTYPE=text/html:<div font-size:="" style="color: rgb(51\, 51\, 51)\; font-family: sans-serif\, Arial\, Verdana\, " text-align:="" trebuchet=""><span style="font-size: 20px\;"><strong><span style="font-size: 24px\;">Power Up with the Chamber<br />\nSponsored by Pinnacle Systems<br />\nTuesday\, November 14th</span></strong></span><br />\n<span style="font-size:22px\;">The Jetty Center<br />\n<span style="color: rgb(34\, 34\, 34)\; font-family: Arial\, sans-serif\; background-color: rgb(255\, 255\, 255)\;">1701 Medical Arts Blvd.\, Anderson\, IN</span></span><br />\n<br />\n<br />\n<span style="font-size: 18px\;">8:00 a.m. - 9:00 a.m.<br />\n<span style="font-size: 14px\;">(We will begin promptly&nbsp\;at 8:00 a.m.)</span></span></div>\n\n<p font-size:="" style="color: rgb(51\, 51\, 51)\; font-family: sans-serif\, Arial\, Verdana\, " text-align:="" trebuchet="">&nbsp\;</p>\n\n<p font-size:="" style="color: rgb(51\, 51\, 51)\; font-family: sans-serif\, Arial\, Verdana\, " trebuchet=""><br />\n<span style="font-size: 14px\;"><strong>We are so excited to see all of you at our Power Up Event</strong></span><br />\n<span style="font-size: 14px\;">The Madison County Chamber offers this informal networking event. Bring business cards to exchange. Snacks provided by Jack&#39\;s Donuts!<br />\n<br />\n<span style="font-size:26px\;"><strong>Don&#39\;t forget your business cards!!!</strong></span></span><br />\n<br />\n&nbsp\;</p>\n
LOCATION:The Jetty Center 1701 Medical Arts Blvd. Anderson
UID:e.1371.12286
SEQUENCE:3
DTSTAMP:20260422T202246Z
URL:http://business.madisoncountyalliance.org/events/details/power-up-with-the-chamber-12286
END:VEVENT

END:VCALENDAR
