BEGIN:VCALENDAR
VERSION:2.0
PRODID:-//ChamberMaster//Event Calendar 2.0//EN
METHOD:PUBLISH
X-PUBLISHED-TTL:P3D
REFRESH-INTERVAL:P3D
CALSCALE:GREGORIAN
BEGIN:VEVENT
DTSTART:20250514T120000Z
DTEND:20250514T130000Z
X-MICROSOFT-CDO-ALLDAYEVENT:FALSE
SUMMARY:Power Up with the Chamber
DESCRIPTION:CANCELLED DUE TO WEATHER\n\nCheck our FB by 7:00 a.m. Wednesday to see if we have to cancel this event due to weather.\n\n\n\nPower Up with the Chamber\n\nWednesday\, May 14\, 2025\n\nAnderson Speedway\n\n1311 Martin Luther King Jr. Blvd.\n\nAnderson\, IN\n\n\n\n\n\n\n\n8:00 a.m. - 9:00 a.m.\n\n(We will begin promptly at 8:00 a.m.)\n\n \n\n\n\nWe are so excited to see all of you at our Power Up Event\n\nThe Madison County Chamber offers this informal networking event. Bring business cards to exchange. Snacks provided by Jack's Donuts and coffee provided by The Exchange Coffee Co.\n\n\n\nDon't forget your business cards!!!
X-ALT-DESC;FMTTYPE=text/html:<div font-size:="" style="color: rgb(51\, 51\, 51)\; font-family: sans-serif\, Arial\, Verdana\, " text-align:="" trebuchet=""><span style="font-size: 20px\;"><strong><span style="font-size: 24px\;"><span style="color:#FF0000\;">CANCELLED DUE TO WEATHER</span><br />\n<em><span style="color:#000000\;">Check our FB by 7:00 a.m. Wednesday to see if we have to cancel this event due to weather.</span></em><br />\n<br />\nPower Up with the Chamber<br />\nWednesday\, May 14\, 2025<br />\nAnderson Speedway<br />\n1311 Martin Luther King Jr. Blvd.<br />\nAnderson\, IN</span></strong></span><br />\n<br />\n<br />\n<br />\n<span style="font-size: 18px\;">8:00 a.m. - 9:00 a.m.<br />\n<span style="font-size: 14px\;">(We will begin promptly&nbsp\;at 8:00 a.m.)</span></span></div>\n\n<p font-size:="" style="color: rgb(51\, 51\, 51)\; font-family: sans-serif\, Arial\, Verdana\, " text-align:="" trebuchet="">&nbsp\;</p>\n\n<p font-size:="" style="color: rgb(51\, 51\, 51)\; font-family: sans-serif\, Arial\, Verdana\, " trebuchet=""><br />\n<span style="font-size: 14px\;"><strong>We are so excited to see all of you at our Power Up Event</strong></span><br />\n<span style="font-size: 14px\;">The Madison County Chamber offers this informal networking event. Bring business cards to exchange. Snacks provided by Jack&#39\;s Donuts and coffee provided by The Exchange Coffee Co.<br />\n<br />\n<span style="font-size:26px\;"><strong>Don&#39\;t forget your business cards!!!</strong></span></span><br />\n<br />\n&nbsp\;</p>\n
LOCATION:Anderson Speedway 1311 Martin Luther King Jr. Blvd. Anderson\, IN
UID:e.1371.18953
SEQUENCE:3
DTSTAMP:20260421T182655Z
URL:http://business.madisoncountyalliance.org/events/details/power-up-with-the-chamber-18953
END:VEVENT

END:VCALENDAR
