BEGIN:VCALENDAR
VERSION:2.0
PRODID:-//ChamberMaster//Event Calendar 2.0//EN
METHOD:PUBLISH
X-PUBLISHED-TTL:P3D
REFRESH-INTERVAL:P3D
CALSCALE:GREGORIAN
BEGIN:VEVENT
DTSTART:20250618T120000Z
DTEND:20250618T130000Z
X-MICROSOFT-CDO-ALLDAYEVENT:FALSE
SUMMARY:Power Up with the Chamber
DESCRIPTION:Power Up with the Chamber\n\nWednesday\, June 18\, 2025\n\nCommunity Sports & Wellness\n\n395 S. Heritage Way\, Pendleton\n\n\n\nSponsored by Anderson Speedway\n\nJack's Donuts & Exchange Coffee Co.\n\n\n\n\n\n\n\n8:00 a.m. - 9:00 a.m.\n\n(We will begin promptly at 8:00 a.m.)\n\n \n\n\n\nWe are so excited to see all of you at our Power Up Event\n\nThe Madison County Chamber offers this informal networking event. Bring business cards to exchange. Snacks provided by Jack's Donuts and coffee provided by The Exchange Coffee Co.\n\n\n\nDon't forget your business cards!!!
X-ALT-DESC;FMTTYPE=text/html:<div font-size:="" style="color: rgb(51\, 51\, 51)\; font-family: sans-serif\, Arial\, Verdana\, " text-align:="" trebuchet=""><span style="font-size: 20px\;"><strong><span style="font-size: 24px\;">Power Up with the Chamber<br />\nWednesday\, June 18\, 2025<br />\nCommunity Sports &amp\; Wellness<br />\n395 S. Heritage Way\, Pendleton<br />\n<br />\nSponsored by Anderson Speedway<br />\nJack&#39\;s Donuts &amp\; Exchange Coffee Co.</span></strong></span><br />\n<br />\n<br />\n<br />\n<span style="font-size: 18px\;">8:00 a.m. - 9:00 a.m.<br />\n<span style="font-size: 14px\;">(We will begin promptly&nbsp\;at 8:00 a.m.)</span></span></div>\n\n<p font-size:="" style="color: rgb(51\, 51\, 51)\; font-family: sans-serif\, Arial\, Verdana\, " text-align:="" trebuchet="">&nbsp\;</p>\n\n<p font-size:="" style="color: rgb(51\, 51\, 51)\; font-family: sans-serif\, Arial\, Verdana\, " trebuchet=""><br />\n<span style="font-size: 14px\;"><strong>We are so excited to see all of you at our Power Up Event</strong></span><br />\n<span style="font-size: 14px\;">The Madison County Chamber offers this informal networking event. Bring business cards to exchange. Snacks provided by Jack&#39\;s Donuts and coffee provided by The Exchange Coffee Co.<br />\n<br />\n<span style="font-size:26px\;"><strong>Don&#39\;t forget your business cards!!!</strong></span></span><br />\n<br />\n&nbsp\;</p>\n
LOCATION:Community Sports & Wellness 395 S. Heritage Way Pendleton\, IN 46064
UID:e.1371.18954
SEQUENCE:3
DTSTAMP:20260421T153406Z
URL:http://business.madisoncountyalliance.org/events/details/power-up-with-the-chamber-18954
END:VEVENT

END:VCALENDAR
