BEGIN:VCALENDAR
VERSION:2.0
PRODID:-//ChamberMaster//Event Calendar 2.0//EN
METHOD:PUBLISH
X-PUBLISHED-TTL:P3D
REFRESH-INTERVAL:P3D
CALSCALE:GREGORIAN
BEGIN:VEVENT
DTSTART:20230803T120000Z
DTEND:20230803T130000Z
X-MICROSOFT-CDO-ALLDAYEVENT:FALSE
SUMMARY:Power Up with the Chamber in Alexandria
DESCRIPTION:Power Up with the Chamber in Alexandria\n\nThursday\, August 3rd\n\n8:00 a.m.\n\nEmery Lee Building\n\nBeulah Park\, 503 South Park Avenue\, Alexandria\, IN
X-ALT-DESC;FMTTYPE=text/html:<div style="text-align: center\;"><span style="font-size:22px\;"><strong>Power Up with the Chamber in Alexandria<br />\nThursday\, August 3rd<br />\n8:00 a.m.<br />\nEmery Lee Building<br />\nBeulah Park\, 503 South Park Avenue\, Alexandria\, IN</strong></span></div>\n
LOCATION:Emery Lee Building Beulah Park 503 S. Park Avenue\, Alexandria\, IN
UID:e.1371.18301
SEQUENCE:3
DTSTAMP:20260423T005216Z
URL:http://business.madisoncountyalliance.org/events/details/power-up-with-the-chamber-in-alexandria-18301
END:VEVENT

END:VCALENDAR
