BEGIN:VCALENDAR
VERSION:2.0
PRODID:-//ChamberMaster//Event Calendar 2.0//EN
METHOD:PUBLISH
X-PUBLISHED-TTL:P3D
REFRESH-INTERVAL:P3D
CALSCALE:GREGORIAN
BEGIN:VEVENT
DTSTART:20231025T120000Z
DTEND:20231025T130000Z
X-MICROSOFT-CDO-ALLDAYEVENT:FALSE
SUMMARY:Power Up with the Chamber in Alexandria
DESCRIPTION:Power Up with the Chamber in Alexandria\n\nWednesday\, October 25th\n\n8:00 a.m.\n\nAlexandria Community Center\n\n315 S. Harrison Street\n\nAlexandria\, IN
X-ALT-DESC;FMTTYPE=text/html:<div style="text-align: center\;"><span style="font-size:22px\;"><strong>Power Up with the Chamber in Alexandria<br />\nWednesday\, October 25th<br />\n8:00 a.m.<br />\nAlexandria Community Center<br />\n315 S. Harrison Street<br />\nAlexandria\, IN</strong></span></div>\n
LOCATION:Alexandria Community Center 315 S. Harrison Street Alexandria\, IN
UID:e.1371.18375
SEQUENCE:3
DTSTAMP:20260422T202256Z
URL:http://business.madisoncountyalliance.org/events/details/power-up-with-the-chamber-in-alexandria-18375
END:VEVENT

END:VCALENDAR
