BEGIN:VCALENDAR
VERSION:2.0
PRODID:-//ChamberMaster//Event Calendar 2.0//EN
METHOD:PUBLISH
X-PUBLISHED-TTL:P3D
REFRESH-INTERVAL:P3D
CALSCALE:GREGORIAN
BEGIN:VEVENT
DTSTART:20240626T120000Z
DTEND:20240626T130000Z
X-MICROSOFT-CDO-ALLDAYEVENT:FALSE
SUMMARY:Power Up with the Chamber in Alexandria
DESCRIPTION:Power Up with the Chamber in Alexandria\n\nWednesday\, June 26\, 2024\n\n8:00 - 9:00 a.m.\n\nLocation:  Emery Lee Building @ Beulah Park\n\n400 E 4th St\, Alexandria
X-ALT-DESC;FMTTYPE=text/html:<div style="text-align: center\;"><span style="font-size:22px\;"><strong>Power Up with the Chamber in Alexandria<br />\nWednesday\, June 26\, 2024<br />\n8:00 - 9:00 a.m.<br />\nLocation:&nbsp\; Emery Lee Building @ Beulah Park<br />\n400 E 4th St\, Alexandria</strong></span></div>\n
LOCATION:Emery Lee Building @ Beulah Park 400 E 4th St Alexandria
UID:e.1371.18834
SEQUENCE:3
DTSTAMP:20260422T090226Z
URL:http://business.madisoncountyalliance.org/events/details/power-up-with-the-chamber-in-alexandria-18834
END:VEVENT

END:VCALENDAR
