BEGIN:VCALENDAR
VERSION:2.0
PRODID:-//ChamberMaster//Event Calendar 2.0//EN
METHOD:PUBLISH
X-PUBLISHED-TTL:P3D
REFRESH-INTERVAL:P3D
CALSCALE:GREGORIAN
BEGIN:VEVENT
DTSTART:20260218T130000Z
DTEND:20260218T140000Z
X-MICROSOFT-CDO-ALLDAYEVENT:FALSE
SUMMARY:Power Up with the Madison County Alliance
DESCRIPTION:Power Up with the Chamber\n\nWednesday\, February 18\, 2026\n\nLocation:  InerG Impact\n\n2629 E. 100 North\, Anderson\n\n\n\nPresented by Anderson Speedway\n\n\n\n\n\n8:00 a.m. - 9:00 a.m.\n\n(We will begin promptly at 8:00 a.m.)\n\n \n\n\n\nWe are so excited to see all of you at our Power Up Event\n\nThe Madison County Alliance offers this informal networking event. Bring business cards to exchange. Snacks provided by Jack's Donuts and coffee provided by The Exchange Coffee Co.\n\n\n\nDon't forget your business cards!!!
X-ALT-DESC;FMTTYPE=text/html:<div font-size:="" style="color: rgb(51\, 51\, 51)\; text-align: center\;" text-align:="" trebuchet=""><span style="font-size: 20px\;"><strong><span style="font-size: 24px\;">Power Up with the Chamber<br />\nWednesday\, February 18\, 2026</span></strong></span></div>\n\n<div font-size:="" style="color: rgb(51\, 51\, 51)\; text-align: center\;" text-align:="" trebuchet=""><span style="font-size: 20px\;"><b>Location:&nbsp\; InerG Impact<br />\n2629 E. 100 North\, Anderson<br />\n<br />\nPresented by Anderson Speedway</b></span></div>\n\n<div font-size:="" style="color: rgb(51\, 51\, 51)\; font-family: sans-serif\, Arial\, Verdana\, " text-align:="" trebuchet=""><br />\n<br />\n<span style="font-size: 18px\;">8:00 a.m. - 9:00 a.m.<br />\n<span style="font-size: 14px\;">(We will begin promptly&nbsp\;at 8:00 a.m.)</span></span></div>\n\n<p font-size:="" style="color: rgb(51\, 51\, 51)\; font-family: sans-serif\, Arial\, Verdana\, " text-align:="" trebuchet="">&nbsp\;</p>\n\n<p font-size:="" style="color: rgb(51\, 51\, 51)\; font-family: sans-serif\, Arial\, Verdana\, " trebuchet=""><br />\n<span style="font-size: 14px\;"><strong>We are so excited to see all of you at our Power Up Event</strong></span><br />\n<span style="font-size: 14px\;">The Madison County Alliance&nbsp\;offers this informal networking event. Bring business cards to exchange. Snacks provided by Jack&#39\;s Donuts and coffee provided by The Exchange Coffee Co.<br />\n<br />\n<span style="font-size:26px\;"><strong>Don&#39\;t forget your business cards!!!</strong></span></span><br />\n<br />\n&nbsp\;</p>\n
LOCATION:InerG Impact 2629 E. 100 North Anderson\, IN
UID:e.1371.19177
SEQUENCE:3
DTSTAMP:20260421T060041Z
URL:http://business.madisoncountyalliance.org/events/details/power-up-with-the-madison-county-alliance-19177
END:VEVENT

END:VCALENDAR
