BEGIN:VCALENDAR
VERSION:2.0
PRODID:-//ChamberMaster//Event Calendar 2.0//EN
METHOD:PUBLISH
X-PUBLISHED-TTL:P3D
REFRESH-INTERVAL:P3D
CALSCALE:GREGORIAN
BEGIN:VEVENT
DTSTART:20240717T230000Z
DTEND:20240718T010000Z
X-MICROSOFT-CDO-ALLDAYEVENT:FALSE
SUMMARY:Pretty In Pink Movie Night
DESCRIPTION:"Pretty In Pink Movie Night" is a special mother-daughter date event presented by InerG Impact. The event features a showing of the movie "IF" and is designed to create a fun bonding experience for mothers and daughters. Refreshments will be served\, and all are welcome to attend this pink-themed movie night.
X-ALT-DESC;FMTTYPE=text/html:&quot\;Pretty In Pink Movie Night&quot\; is a special mother-daughter date event presented by InerG Impact. The event features a showing of the movie &quot\;IF&quot\; and is designed to create a fun bonding experience for mothers and daughters. Refreshments will be served\, and all are welcome to attend this pink-themed movie night.
LOCATION:InerG Impact\, 2629 Lindberg Rd.\, Anderson\, IN 46012
UID:e.1371.18898
SEQUENCE:3
DTSTAMP:20260422T072032Z
URL:http://business.madisoncountyalliance.org/events/details/pretty-in-pink-movie-night-18898
END:VEVENT

END:VCALENDAR
