BEGIN:VCALENDAR
VERSION:2.0
PRODID:-//ChamberMaster//Event Calendar 2.0//EN
METHOD:PUBLISH
X-PUBLISHED-TTL:P3D
REFRESH-INTERVAL:P3D
CALSCALE:GREGORIAN
BEGIN:VEVENT
DTSTART:20240307T230000Z
DTEND:20240308T010000Z
X-MICROSOFT-CDO-ALLDAYEVENT:FALSE
SUMMARY:Professional Development in Art Education: A Mental Wellness Workshop
DESCRIPTION:Mark your calendars for an enriching experience at the Anderson Museum of Art! ?? Join us for a professional development opportunity curated just for you. ????? Featured Speaker: Hannah Richardson Assistant Professor of Art Education and Pre-Art Therapy Discover innovative methods for preventative mental health care seamlessly integrated into the Studio Habits of Mind. ?? Hands-On Art Experience: Led by Olivia Willard Immerse yourself in an art-making journey exploring how materials can be a catalyst for emotional and cognitive processing. ?? Location: Anderson Museum of Art Don't miss this unique opportunity to enhance your teaching practice and prioritize mental wellness. Please join us for an inspiring night of professional growth! andersonart.org/aeai-workshop
X-ALT-DESC;FMTTYPE=text/html:Mark your calendars for an enriching experience at the Anderson Museum of Art! ?? Join us for a professional development opportunity curated just for you. ????? Featured Speaker: Hannah Richardson Assistant Professor of Art Education and Pre-Art Therapy Discover innovative methods for preventative mental health care seamlessly integrated into the Studio Habits of Mind. ?? Hands-On Art Experience: Led by Olivia Willard Immerse yourself in an art-making journey exploring how materials can be a catalyst for emotional and cognitive processing. ?? Location: Anderson Museum of Art Don&#39\;t miss this unique opportunity to enhance your teaching practice and prioritize mental wellness. Please join us for an inspiring night of professional growth! andersonart.org/aeai-workshop
LOCATION:Anderson Museum of Art
UID:e.1371.18851
SEQUENCE:3
DTSTAMP:20260422T144613Z
URL:http://business.madisoncountyalliance.org/events/details/professional-development-in-art-education-a-mental-wellness-workshop-18851
END:VEVENT

END:VCALENDAR
