BEGIN:VCALENDAR
VERSION:2.0
PRODID:-//ChamberMaster//Event Calendar 2.0//EN
METHOD:PUBLISH
X-PUBLISHED-TTL:P3D
REFRESH-INTERVAL:P3D
CALSCALE:GREGORIAN
BEGIN:VEVENT
DTSTART:20250227T223000Z
DTEND:20250228T003000Z
X-MICROSOFT-CDO-ALLDAYEVENT:FALSE
SUMMARY:Professional Development in Playful Artmaking
DESCRIPTION:The Anderson Museum of Art is excited to announce a collaborative professional development opportunity with the Art Education Association of Indiana. The event\, designed for art educators\, offers insight into facilitating safe risk-taking and developing a playful curriculum planning process. Hannah Richardson\, Assistant Professor of Art Education and Pre-Art Therapy at Taylor University\, will lead the session alongside Anderson Museum of Art interns Trey Whitted and Moirah Cooke. Participants are invited to rediscover the personal and instructional benefits of playful artmaking through interactive art activities and a discussion of current research that encourages learning through play. This event is free for all art educators in Eastern Indiana\, offering a valuable opportunity for professional growth and networking. The generous sponsorship by Anderson Community Schools enhances the accessibility of this enriching experience  light refreshments will be provided. For more information and to register\, visit https://www.andersonart.org/artteacher.
X-ALT-DESC;FMTTYPE=text/html:The Anderson Museum of Art is excited to announce a collaborative professional development opportunity with the Art Education Association of Indiana. The event\, designed for art educators\, offers insight into facilitating safe risk-taking and developing a playful curriculum planning process. Hannah Richardson\, Assistant Professor of Art Education and Pre-Art Therapy at Taylor University\, will lead the session alongside Anderson Museum of Art interns Trey Whitted and Moirah Cooke. Participants are invited to rediscover the personal and instructional benefits of playful artmaking through interactive art activities and a discussion of current research that encourages learning through play. This event is free for all art educators in Eastern Indiana\, offering a valuable opportunity for professional growth and networking. The generous sponsorship by Anderson Community Schools enhances the accessibility of this enriching experience&mdash\; light refreshments will be provided. For more information and to register\, visit https://www.andersonart.org/artteacher.
LOCATION:Anderson Museum of Art 32 Hst W 10th St\, Anderson\, IN 46016
UID:e.1371.18963
SEQUENCE:3
DTSTAMP:20260421T224425Z
URL:http://business.madisoncountyalliance.org/events/details/professional-development-in-playful-artmaking-18963
END:VEVENT

END:VCALENDAR
