BEGIN:VCALENDAR
VERSION:2.0
PRODID:-//ChamberMaster//Event Calendar 2.0//EN
METHOD:PUBLISH
X-PUBLISHED-TTL:P3D
REFRESH-INTERVAL:P3D
CALSCALE:GREGORIAN
BEGIN:VEVENT
DTSTART:20251218T200000Z
DTEND:20251218T220000Z
X-MICROSOFT-CDO-ALLDAYEVENT:FALSE
SUMMARY:Reception for Clayton Whitson
DESCRIPTION:Reception for Clayton Whitson\n\nThursday\, December 18\, 2025\n\nat Flagship Enterprise Center\n\n2701 Enterprise Drive\, Anderson\n\n\n\nCome join us in well wishes to Clayton as he embarks on a new adventure.  \n\n\n\nLight hors'dourves will be served.  \n\n\n\nMust register by December 11th.
X-ALT-DESC;FMTTYPE=text/html:Reception for Clayton Whitson<br />\nThursday\, December 18\, 2025<br />\nat Flagship Enterprise Center<br />\n2701 Enterprise Drive\, Anderson<br />\n<br />\nCome join us in well wishes to Clayton as he embarks on a new adventure.&nbsp\;&nbsp\;<br />\n<br />\nLight hors&#39\;dourves will be served.&nbsp\;&nbsp\;<br />\n<br />\nMust register by December 11th.<br />\n&nbsp\;
LOCATION:Flagship Enterprise Center 2701 Enterprise Drive Anderson\, IN
UID:e.1371.19163
SEQUENCE:3
DTSTAMP:20260421T065633Z
URL:http://business.madisoncountyalliance.org/events/details/reception-for-clayton-whitson-19163
END:VEVENT

END:VCALENDAR
