BEGIN:VCALENDAR
VERSION:2.0
PRODID:-//ChamberMaster//Event Calendar 2.0//EN
METHOD:PUBLISH
X-PUBLISHED-TTL:P3D
REFRESH-INTERVAL:P3D
CALSCALE:GREGORIAN
BEGIN:VEVENT
DTSTART;VALUE=DATE:20251128
DTEND;VALUE=DATE:20251129
TRANSP:TRANSPARENT
X-MICROSOFT-CDO-ALLDAYEVENT:TRUE
SUMMARY:Remo's Revenge Beer Release
DESCRIPTION:Creatures of Habit Brewing Co. is excited to announce the highly anticipated release of 2025's Remo's Revenge\, a rich and bold Russian Imperial Stout\, available beginning on Black Friday\, November 28th. This limited-edition stout boasts complex layers of roasted malt\, dark chocolate\, and subtle notes of caramel\, making it a perfect companion for the upcoming chilly season. Crafted with passion and precision\, Remo's Revenge promises to deliver an unforgettable tasting experience for beer enthusiasts and adventurers alike. Join us at Creatures of Habit Brewing Co. on Black Friday to be among the first to savor this exceptional brew. For more information\, visit our website or follow us on social media.
X-ALT-DESC;FMTTYPE=text/html:Creatures of Habit Brewing Co. is excited to announce the highly anticipated release of 2025&#39\;s Remo&rsquo\;s Revenge\, a rich and bold Russian Imperial Stout\, available beginning on Black Friday\, November 28th. This limited-edition stout boasts complex layers of roasted malt\, dark chocolate\, and subtle notes of caramel\, making it a perfect companion for the upcoming chilly season. Crafted with passion and precision\, Remo&rsquo\;s Revenge promises to deliver an unforgettable tasting experience for beer enthusiasts and adventurers alike. Join us at Creatures of Habit Brewing Co. on Black Friday to be among the first to savor this exceptional brew. For more information\, visit our website or follow us on social media.
LOCATION:1031 Meridian Street Anderson\, IN 46016
UID:e.1371.19157
SEQUENCE:3
DTSTAMP:20260421T082757Z
URL:http://business.madisoncountyalliance.org/events/details/remo-s-revenge-beer-release-19157
END:VEVENT

END:VCALENDAR
