BEGIN:VCALENDAR
VERSION:2.0
PRODID:-//ChamberMaster//Event Calendar 2.0//EN
METHOD:PUBLISH
X-PUBLISHED-TTL:P3D
REFRESH-INTERVAL:P3D
CALSCALE:GREGORIAN
BEGIN:VEVENT
DTSTART:20230419T143000Z
DTEND:20230419T150000Z
X-MICROSOFT-CDO-ALLDAYEVENT:FALSE
SUMMARY:RibbonCutting for Kinnaman Studio
DESCRIPTION:Ribbon Cutting for Kinnaman Studio\n\nApril 19th at 10:30 a.m.\n\n2307 E. 10th Street\, Anderson
X-ALT-DESC;FMTTYPE=text/html:<span style="font-size:28px\;">Ribbon Cutting for Kinnaman Studio<br />\nApril 19th at 10:30 a.m.<br />\n2307 E. 10th Street\, Anderson</span><br />\n<br />\n&nbsp\;
LOCATION:2307 E. 10th Street\, Anderson
UID:e.1371.12665
SEQUENCE:3
DTSTAMP:20260423T051346Z
URL:http://business.madisoncountyalliance.org/events/details/ribboncutting-for-kinnaman-studio-12665
END:VEVENT

END:VCALENDAR
