BEGIN:VCALENDAR
VERSION:2.0
PRODID:-//ChamberMaster//Event Calendar 2.0//EN
METHOD:PUBLISH
X-PUBLISHED-TTL:P3D
REFRESH-INTERVAL:P3D
CALSCALE:GREGORIAN
BEGIN:VEVENT
DTSTART:20251213T150000Z
DTEND:20251213T200000Z
X-MICROSOFT-CDO-ALLDAYEVENT:FALSE
SUMMARY:Santa's Stained Glass Workshop
DESCRIPTION:Join us for our Santa's Stained Glass Workshop on December 13th from 10AM to 3PM! Get into the holiday spirit with this festive 5-hour stained glass workshop! Choose from a variety of beautiful seasonal designs and create your very own stained glass masterpieces\, perfect for gifting or decorating your home. Ticket Prices: Member Price: $50 Non Member Price: $60 For just $15 more\, bundle this workshop with a one-year Individual Membership and enjoy exclusive discounts and perks all year long\, for a total of $75. Don't miss this AMOAzing holiday deal!
X-ALT-DESC;FMTTYPE=text/html:Join us for our Santa&rsquo\;s Stained Glass Workshop on December 13th from 10AM to 3PM! Get into the holiday spirit with this festive 5-hour stained glass workshop! Choose from a variety of beautiful seasonal designs and create your very own stained glass masterpieces\, perfect for gifting or decorating your home. Ticket Prices: Member Price: $50 Non Member Price: $60 For just $15 more\, bundle this workshop with a one-year Individual Membership and enjoy exclusive discounts and perks all year long\, for a total of $75. Don&rsquo\;t miss this AMOAzing holiday deal!
LOCATION:Anderson Museum of Art
UID:e.1371.19155
SEQUENCE:3
DTSTAMP:20260421T065632Z
URL:http://business.madisoncountyalliance.org/events/details/santa-s-stained-glass-workshop-19155
END:VEVENT

END:VCALENDAR
