BEGIN:VCALENDAR
VERSION:2.0
PRODID:-//ChamberMaster//Event Calendar 2.0//EN
METHOD:PUBLISH
X-PUBLISHED-TTL:P3D
REFRESH-INTERVAL:P3D
CALSCALE:GREGORIAN
BEGIN:VEVENT
DTSTART:20260221T150000Z
DTEND:20260221T170000Z
X-MICROSOFT-CDO-ALLDAYEVENT:FALSE
SUMMARY:Saturday Brunch
DESCRIPTION:Join us for our delicious monthly brunch on February 21st from 10 AM to Noon! This month\, we're celebrating with a delightful Cinnamon Roll-inspired menu that will tantalize your taste buds and warm your heart. Get ready to indulge in mouthwatering dishes crafted with the sweet and comforting flavors of cinnamon rolls! The full menu will be revealed just a few days before the event\, so stay tuned! Gather your friends and family for a cozy brunch experience filled with great food and fun! We can't wait to see you there!
X-ALT-DESC;FMTTYPE=text/html:Join us for our delicious monthly brunch on February 21st from 10 AM to Noon! This month\, we&rsquo\;re celebrating with a delightful Cinnamon Roll-inspired menu that will tantalize your taste buds and warm your heart. Get ready to indulge in mouthwatering dishes crafted with the sweet and comforting flavors of cinnamon rolls! The full menu will be revealed just a few days before the event\, so stay tuned! Gather your friends and family for a cozy brunch experience filled with great food and fun! We can&#39\;t wait to see you there!
LOCATION:Creatures of Habit 1031 Meridian Street Downtown Anderson
UID:e.1371.19179
SEQUENCE:3
DTSTAMP:20260421T040646Z
URL:http://business.madisoncountyalliance.org/events/details/saturday-brunch-19179
END:VEVENT

END:VCALENDAR
