BEGIN:VCALENDAR
VERSION:2.0
PRODID:-//ChamberMaster//Event Calendar 2.0//EN
METHOD:PUBLISH
X-PUBLISHED-TTL:P3D
REFRESH-INTERVAL:P3D
CALSCALE:GREGORIAN
BEGIN:VEVENT
DTSTART:20241115T000000Z
DTEND:20241122T023000Z
X-MICROSOFT-CDO-ALLDAYEVENT:FALSE
SUMMARY:Sculpey\, Sculpey\, Sculpey Jewelry with Jewel!
DESCRIPTION:Create Jewelry with Jewel! Projects include Rose Brooch\, Friendship Beads\, and Pattern Fun Beads. This two-session class features Sculpey polymer clay that teens will used to make their own beads and jewelry components! November 14th & 21st
X-ALT-DESC;FMTTYPE=text/html:Create Jewelry with Jewel! Projects include Rose Brooch\, Friendship Beads\, and Pattern Fun Beads. This two-session class features Sculpey polymer clay that teens will used to make their own beads and jewelry components! November 14th &amp\; 21st
LOCATION:Anderson Museum of Art
UID:e.1371.18940
SEQUENCE:3
DTSTAMP:20260422T014837Z
URL:http://business.madisoncountyalliance.org/events/details/sculpey-sculpey-sculpey-jewelry-with-jewel-18940
END:VEVENT

END:VCALENDAR
