BEGIN:VCALENDAR
VERSION:2.0
PRODID:-//ChamberMaster//Event Calendar 2.0//EN
METHOD:PUBLISH
X-PUBLISHED-TTL:P3D
REFRESH-INTERVAL:P3D
CALSCALE:GREGORIAN
BEGIN:VEVENT
DTSTART:20230311T150000Z
DTEND:20230311T170000Z
X-MICROSOFT-CDO-ALLDAYEVENT:FALSE
SUMMARY:Sew a Softie Free Family Event
DESCRIPTION:Join us on March 11 from 10 am to 12 Noon as we join the Global Kids Sewing Party and create homemade cat toys for the Animal Protection League! This event is AMOA's way of being part of the Global Kids Sewing Party. Beginning March 1\, kids from across the globe will be sewing a softie and gifting it to a person or group in their community. Donations for the Animal Protection League are Encouraged! Cat Litter Food Treats
X-ALT-DESC;FMTTYPE=text/html:Join us on March 11 from 10 am to 12 Noon as we join the Global Kids Sewing Party and create homemade cat toys for the Animal Protection League! This event is AMOA&#39\;s way of being part of the Global Kids Sewing Party. Beginning March 1\, kids from across the globe will be sewing a softie and gifting it to a person or group in their community. Donations for the Animal Protection League are Encouraged! Cat Litter Food Treats
LOCATION:Anderson Museum of Art
UID:e.1371.12483
SEQUENCE:3
DTSTAMP:20260423T070632Z
URL:http://business.madisoncountyalliance.org/events/details/sew-a-softie-free-family-event-12483
END:VEVENT

END:VCALENDAR
