BEGIN:VCALENDAR
VERSION:2.0
PRODID:-//ChamberMaster//Event Calendar 2.0//EN
METHOD:PUBLISH
X-PUBLISHED-TTL:P3D
REFRESH-INTERVAL:P3D
CALSCALE:GREGORIAN
BEGIN:VEVENT
DTSTART;VALUE=DATE:20250919
DTEND;VALUE=DATE:20251101
TRANSP:TRANSPARENT
X-MICROSOFT-CDO-ALLDAYEVENT:TRUE
SUMMARY:Shadowlands
DESCRIPTION:We are pleased to announce the upcoming exhibition\, Shadowlands\, featuring the compelling works of Nick Martin and Mike Wartgow. The show will open to the public on September 19. This exhibition offers a thought-provoking exploration of symbolic and unconventional themes\, inviting viewers to engage with a unique and introspective visual experience. We invite you to join us for this remarkable presentation of contemporary art.
X-ALT-DESC;FMTTYPE=text/html:We are pleased to announce the upcoming exhibition\, Shadowlands\, featuring the compelling works of Nick Martin and Mike Wartgow. The show will open to the public on September 19. This exhibition offers a thought-provoking exploration of symbolic and unconventional themes\, inviting viewers to engage with a unique and introspective visual experience. We invite you to join us for this remarkable presentation of contemporary art.
LOCATION:Anderson Museum of Art
UID:e.1371.19142
SEQUENCE:3
DTSTAMP:20260421T100643Z
URL:http://business.madisoncountyalliance.org/events/details/shadowlands-19142
END:VEVENT

END:VCALENDAR
