BEGIN:VCALENDAR
VERSION:2.0
PRODID:-//ChamberMaster//Event Calendar 2.0//EN
METHOD:PUBLISH
X-PUBLISHED-TTL:P3D
REFRESH-INTERVAL:P3D
CALSCALE:GREGORIAN
BEGIN:VEVENT
DTSTART:20250509T120000Z
DTEND:20250509T170000Z
X-MICROSOFT-CDO-ALLDAYEVENT:FALSE
SUMMARY:SHIFT: A Business Conference that Moves You Toward Success
DESCRIPTION:Join us for an amazing morning connecting with small business owners from our area! Topics include: How to Double Your Business in a Year Marketing Your Brand (Part 1 & 2) 10 Ways to Grow Your Revenue Breakfast and lunch are included with registration. Seats are limited\, so sign up NOW!
X-ALT-DESC;FMTTYPE=text/html:Join us for an amazing morning connecting with small business owners from our area! Topics include: How to Double Your Business in a Year Marketing Your Brand (Part 1 &amp\; 2) 10 Ways to Grow Your Revenue Breakfast and lunch are included with registration. Seats are limited\, so sign up NOW!
LOCATION:Flagship Enterprise Center\, 2701 Enterprise Drive\, Anderson\, IN 46013
UID:e.1371.19110
SEQUENCE:3
DTSTAMP:20260421T170732Z
URL:http://business.madisoncountyalliance.org/events/details/shift-a-business-conference-that-moves-you-toward-success-19110
END:VEVENT

END:VCALENDAR
