BEGIN:VCALENDAR
VERSION:2.0
PRODID:-//ChamberMaster//Event Calendar 2.0//EN
METHOD:PUBLISH
X-PUBLISHED-TTL:P3D
REFRESH-INTERVAL:P3D
CALSCALE:GREGORIAN
BEGIN:VEVENT
DTSTART;VALUE=DATE:20250913
DTEND;VALUE=DATE:20250914
TRANSP:TRANSPARENT
X-MICROSOFT-CDO-ALLDAYEVENT:TRUE
SUMMARY:Special Beer Event
DESCRIPTION:Join us for a unique tapping of rare\, hard-to-find beers from world-renowned Belgian and French breweries:  Cantillon's Ros  de Grambrinus  Fant me's Old Fashioned and Saison  Sacril ge La Combe Don't miss this opportunity to enjoy these exceptional brews while they last. Cheers!
X-ALT-DESC;FMTTYPE=text/html:Join us for a unique tapping of rare\, hard-to-find beers from world-renowned Belgian and French breweries: &bull\;Cantillon&rsquo\;s Ros&eacute\; de Grambrinus &bull\;Fant&ocirc\;me&rsquo\;s Old Fashioned and Saison &bull\;Sacril&egrave\;ge La Combe Don&rsquo\;t miss this opportunity to enjoy these exceptional brews while they last. Cheers!
LOCATION:Creatures of Habit Brewing Co. 1031 Meridian St. Downtown Anderson
UID:e.1371.19141
SEQUENCE:3
DTSTAMP:20260421T112242Z
URL:http://business.madisoncountyalliance.org/events/details/special-beer-event-19141
END:VEVENT

END:VCALENDAR
