BEGIN:VCALENDAR
VERSION:2.0
PRODID:-//ChamberMaster//Event Calendar 2.0//EN
METHOD:PUBLISH
X-PUBLISHED-TTL:P3D
REFRESH-INTERVAL:P3D
CALSCALE:GREGORIAN
BEGIN:VEVENT
DTSTART:20260228T190000Z
DTEND:20260228T220000Z
X-MICROSOFT-CDO-ALLDAYEVENT:FALSE
SUMMARY:Stained Glass Cat Class
DESCRIPTION:Calling all cat lovers! Join us for a Stained Glass Cat Class on February 28 from 2 5 PM! Learn the art of stained glass while creating an adorable cat design under the guidance of our instructor\, Nick Martin. No experience needed\, just bring your creativity! Ticket Prices: Members: $35 Non-members: $45 AMOAzing Deal Alert! For just $15 more\, you can take this class and receive a one-year individual membership\, that's creativity and community all in one! Spots are limited\, so don't miss out on this purr-fect opportunity to learn\, create\, and have fun!
X-ALT-DESC;FMTTYPE=text/html:Calling all cat lovers! Join us for a Stained Glass Cat Class on February 28 from 2&ndash\;5 PM! Learn the art of stained glass while creating an adorable cat design under the guidance of our instructor\, Nick Martin. No experience needed\, just bring your creativity! Ticket Prices: Members: $35 Non-members: $45 AMOAzing Deal Alert! For just $15 more\, you can take this class and receive a one-year individual membership\, that&rsquo\;s creativity and community all in one! Spots are limited\, so don&rsquo\;t miss out on this purr-fect opportunity to learn\, create\, and have fun!
LOCATION:Anderson Museum of Art
UID:e.1371.19171
SEQUENCE:3
DTSTAMP:20260421T052728Z
URL:http://business.madisoncountyalliance.org/events/details/stained-glass-cat-class-19171
END:VEVENT

END:VCALENDAR
