BEGIN:VCALENDAR
VERSION:2.0
PRODID:-//ChamberMaster//Event Calendar 2.0//EN
METHOD:PUBLISH
X-PUBLISHED-TTL:P3D
REFRESH-INTERVAL:P3D
CALSCALE:GREGORIAN
BEGIN:VEVENT
DTSTART:20230404T220000Z
DTEND:20230405T000000Z
X-MICROSOFT-CDO-ALLDAYEVENT:FALSE
SUMMARY:Stained Glass Terrazzo Inspired Coasters Class
DESCRIPTION:Create a set of 4 terrazzo-inspired coasters with stained glass\, plaster of Paris\, and silicone molds!
X-ALT-DESC;FMTTYPE=text/html:Create a set of 4 terrazzo-inspired coasters with stained glass\, plaster of Paris\, and silicone molds!
LOCATION:Anderson Museum of Art
UID:e.1371.12482
SEQUENCE:3
DTSTAMP:20260423T051347Z
URL:http://business.madisoncountyalliance.org/events/details/stained-glass-terrazzo-inspired-coasters-class-12482
END:VEVENT

END:VCALENDAR
