BEGIN:VCALENDAR
VERSION:2.0
PRODID:-//ChamberMaster//Event Calendar 2.0//EN
METHOD:PUBLISH
X-PUBLISHED-TTL:P3D
REFRESH-INTERVAL:P3D
CALSCALE:GREGORIAN
BEGIN:VEVENT
DTSTART:20240309T230000Z
DTEND:20240310T030000Z
X-MICROSOFT-CDO-ALLDAYEVENT:FALSE
SUMMARY:Stand Up for Kids
DESCRIPTION:Stand Up for Kids is a night of clean comedy benefiting Kids Talk Child Advocacy Center\, a program of Aspire Indiana Health. Ticket holders will enjoy an evening of comedy provided by our hilarious headliner\, Zoltan Kaszas! Guests will also enjoy heavy hors d'ouevres\, drinks\, and a silent auction in the Terrace Showroom at Harrah's Hoosier Park Casino and Racing. Proceeds from this event will provide crucial funds for services to child and elder abuse victims as well as adult victims with developmental disabilities. Proceeds will also be used to provide our child abuse prevention program in schools throughout Madison and Hancock counties.
X-ALT-DESC;FMTTYPE=text/html:Stand Up for Kids is a night of clean comedy benefiting Kids Talk Child Advocacy Center\, a program of Aspire Indiana Health. Ticket holders will enjoy an evening of comedy provided by our hilarious headliner\, Zoltan Kaszas! Guests will also enjoy heavy hors d&#39\;ouevres\, drinks\, and a silent auction in the Terrace Showroom at Harrah&#39\;s Hoosier Park Casino and Racing. Proceeds from this event will provide crucial funds for services to child and elder abuse victims as well as adult victims with developmental disabilities. Proceeds will also be used to provide our child abuse prevention program in schools throughout Madison and Hancock counties.
LOCATION:Harrah's Hoosier Park Casino
UID:e.1371.18853
SEQUENCE:3
DTSTAMP:20260422T133114Z
URL:http://business.madisoncountyalliance.org/events/details/stand-up-for-kids-03-09-2024-18853
END:VEVENT

END:VCALENDAR
