BEGIN:VCALENDAR
VERSION:2.0
PRODID:-//ChamberMaster//Event Calendar 2.0//EN
METHOD:PUBLISH
X-PUBLISHED-TTL:P3D
REFRESH-INTERVAL:P3D
CALSCALE:GREGORIAN
BEGIN:VEVENT
DTSTART:20231102T220000Z
DTEND:20231103T000000Z
X-MICROSOFT-CDO-ALLDAYEVENT:FALSE
SUMMARY:Sunset Yoga Under the Dome at the Anderson Museum of Art
DESCRIPTION:Join us for a night of yoga at AMOA's beautiful historic Carnegie Library building instructed by River Lin of ZOKAWA: The Center of Happiness. All proceeds will benefit Phase 1 of AMOA's Under One Roof Campaign. Light Refreshments will be provided!
X-ALT-DESC;FMTTYPE=text/html:Join us for a night of yoga at AMOA&rsquo\;s beautiful historic Carnegie Library building instructed by River Lin of ZOKAWA: The Center of Happiness. All proceeds will benefit Phase 1 of AMOA&rsquo\;s Under One Roof Campaign. Light Refreshments will be provided!
LOCATION:The Anderson Museum of Art
UID:e.1371.18790
SEQUENCE:3
DTSTAMP:20260422T202624Z
URL:http://business.madisoncountyalliance.org/events/details/sunset-yoga-under-the-dome-at-the-anderson-museum-of-art-18790
END:VEVENT

END:VCALENDAR
