BEGIN:VCALENDAR
VERSION:2.0
PRODID:-//ChamberMaster//Event Calendar 2.0//EN
METHOD:PUBLISH
X-PUBLISHED-TTL:P3D
REFRESH-INTERVAL:P3D
CALSCALE:GREGORIAN
BEGIN:VEVENT
DTSTART:20230929T210000Z
DTEND:20230929T230000Z
X-MICROSOFT-CDO-ALLDAYEVENT:FALSE
SUMMARY:Supporter Night
DESCRIPTION:This event gives our community an opportunity to show their support for the arts and participate in games and activities with other organizations.
X-ALT-DESC;FMTTYPE=text/html:This event gives our community an opportunity to show their support for the arts and participate in games and activities with other organizations.
LOCATION:Anderson Museum of Art
UID:e.1371.18329
SEQUENCE:3
DTSTAMP:20260422T215905Z
URL:http://business.madisoncountyalliance.org/events/details/supporter-night-18329
END:VEVENT

END:VCALENDAR
