BEGIN:VCALENDAR
VERSION:2.0
PRODID:-//ChamberMaster//Event Calendar 2.0//EN
METHOD:PUBLISH
X-PUBLISHED-TTL:P3D
REFRESH-INTERVAL:P3D
CALSCALE:GREGORIAN
BEGIN:VEVENT
DTSTART:20230402T170000Z
DTEND:20230527T210000Z
X-MICROSOFT-CDO-ALLDAYEVENT:FALSE
SUMMARY:Technicolor Dreams
DESCRIPTION:Explore the collage style and vintage photograph-inspired works of Hoosier artists Jennifer Hoard and Lynette K. Waters-Whitesell.
X-ALT-DESC;FMTTYPE=text/html:Explore the collage style and vintage photograph-inspired works of Hoosier artists Jennifer Hoard and Lynette K. Waters-Whitesell.
LOCATION:Anderson Museum of Art
UID:e.1371.12480
SEQUENCE:3
DTSTAMP:20260423T034155Z
URL:http://business.madisoncountyalliance.org/events/details/technicolor-dreams-12480
END:VEVENT

END:VCALENDAR
