BEGIN:VCALENDAR
VERSION:2.0
PRODID:-//ChamberMaster//Event Calendar 2.0//EN
METHOD:PUBLISH
X-PUBLISHED-TTL:P3D
REFRESH-INTERVAL:P3D
CALSCALE:GREGORIAN
BEGIN:VEVENT
DTSTART:20230620T130000Z
DTEND:20230623T160000Z
X-MICROSOFT-CDO-ALLDAYEVENT:FALSE
SUMMARY:Teen Summer Drawing
DESCRIPTION:Taught by Jewel Morgan: Students will learn about the core drawing fundamentals from contour & blind contour lines and linear perspective to rendering and use of color. Grades 7th-12th.
X-ALT-DESC;FMTTYPE=text/html:Taught by Jewel Morgan: Students will learn about the core drawing fundamentals from contour &amp\; blind contour lines and linear perspective to rendering and use of color. Grades 7th-12th.
LOCATION:32 West 10th Street Anderson\, IN 46016
UID:e.1371.12713
SEQUENCE:3
DTSTAMP:20260423T021943Z
URL:http://business.madisoncountyalliance.org/events/details/teen-summer-drawing-12713
END:VEVENT

END:VCALENDAR
