BEGIN:VCALENDAR
VERSION:2.0
PRODID:-//ChamberMaster//Event Calendar 2.0//EN
METHOD:PUBLISH
X-PUBLISHED-TTL:P3D
REFRESH-INTERVAL:P3D
CALSCALE:GREGORIAN
BEGIN:VEVENT
DTSTART:20230710T130000Z
DTEND:20230714T160000Z
X-MICROSOFT-CDO-ALLDAYEVENT:FALSE
SUMMARY:The Art Experience Summer Camp
DESCRIPTION:Taught by Olivia Willard: Students will learn about famous artists\, what they did\, and how they did it. They will be experimenting with different mediums and tools while learning about the artists that used them. Grades 1st-6th.
X-ALT-DESC;FMTTYPE=text/html:Taught by Olivia Willard: Students will learn about famous artists\, what they did\, and how they did it. They will be experimenting with different mediums and tools while learning about the artists that used them. Grades 1st-6th.
LOCATION:32 West 10th Street Anderson\, IN 46016
UID:e.1371.12715
SEQUENCE:3
DTSTAMP:20260423T005039Z
URL:http://business.madisoncountyalliance.org/events/details/the-art-experience-summer-camp-12715
END:VEVENT

END:VCALENDAR
