BEGIN:VCALENDAR
VERSION:2.0
PRODID:-//ChamberMaster//Event Calendar 2.0//EN
METHOD:PUBLISH
X-PUBLISHED-TTL:P3D
REFRESH-INTERVAL:P3D
CALSCALE:GREGORIAN
BEGIN:VEVENT
DTSTART:20230612T130000Z
DTEND:20230616T160000Z
X-MICROSOFT-CDO-ALLDAYEVENT:FALSE
SUMMARY:The Art of China and Japan Summer Camp
DESCRIPTION:Taught by Lisa Cron: Students will learn about the different styles and types of art in China and Japan from paper lanterns and fans to Sumi-e paintings and Ming-style vases. Grades 1st-6th.
X-ALT-DESC;FMTTYPE=text/html:Taught by Lisa Cron: Students will learn about the different styles and types of art in China and Japan from paper lanterns and fans to Sumi-e paintings and Ming-style vases. Grades 1st-6th.
LOCATION:Anderson Museum of Art
UID:e.1371.12712
SEQUENCE:3
DTSTAMP:20260423T034607Z
URL:http://business.madisoncountyalliance.org/events/details/the-art-of-china-and-japan-summer-camp-12712
END:VEVENT

END:VCALENDAR
