BEGIN:VCALENDAR
VERSION:2.0
PRODID:-//ChamberMaster//Event Calendar 2.0//EN
METHOD:PUBLISH
X-PUBLISHED-TTL:P3D
REFRESH-INTERVAL:P3D
CALSCALE:GREGORIAN
BEGIN:VEVENT
DTSTART:20230520T233000Z
DTEND:20230521T020000Z
X-MICROSOFT-CDO-ALLDAYEVENT:FALSE
SUMMARY:The Carpenter's Project: An offering
DESCRIPTION:The Paramount Theatre Anderson\, Indiana is proud to present The Carpenter's Project: An Offering A Cabaret Style show in the Hardacre Ballroom. Indianapolis musician and personality\, Brent Marty\, and New York-based vocalist Amy Rafa\, take you on a journey through the timeless catalog of 70s super-duo\, Carpenters. Their celebration features many of the Carpenters' biggest hits (Rainy Days & Mondays\, We've Only Just Begun\, Goodbye to Love) along with some hidden gems. As they bring these classic tunes to life with a combo of musicians and backup vocalists\, Brent and Amy share personal stories of their 30-year friendship and how Richard and Karen Carpenter's music affected them   and millions of fans around the world still\, today. Seating Limited to 200 people. A charcuterie style dinner will be included. Visit Andersonparamount.org Sing" https://www.youtube.com/watch?v=d1kAm7IUpkU "Kind of Hush" https://www.youtube.com/watch?v=ASIRVBl-vnM "Superstar" https://www.youtube.com/watch?v=E6qGqbyXpx8 "Calling Occupants" https://www.youtube.com/watch?v=qWP1IPwvhIs Tickets will go on sale Tuesday April 4\, 2023 Copy and paste the link below to purchase tickets. https://www.ticketmaster.com/event/05005E78D53B5C43
X-ALT-DESC;FMTTYPE=text/html:The Paramount Theatre Anderson\, Indiana is proud to present The Carpenter&#39\;s Project: An Offering A Cabaret Style show in the Hardacre Ballroom. Indianapolis musician and personality\, Brent Marty\, and New York-based vocalist Amy Rafa\, take you on a journey through the timeless catalog of 70s super-duo\, Carpenters. Their celebration features many of the Carpenters&rsquo\; biggest hits (Rainy Days &amp\; Mondays\, We&rsquo\;ve Only Just Begun\, Goodbye to Love) along with some hidden gems. As they bring these classic tunes to life with a combo of musicians and backup vocalists\, Brent and Amy share personal stories of their 30-year friendship and how Richard and Karen Carpenter&rsquo\;s music affected them &ndash\; and millions of fans around the world still\, today. Seating Limited to 200 people. A charcuterie style dinner will be included. Visit Andersonparamount.org Sing&rdquo\; https://www.youtube.com/watch?v=d1kAm7IUpkU &ldquo\;Kind of Hush&rdquo\; https://www.youtube.com/watch?v=ASIRVBl-vnM &ldquo\;Superstar&rdquo\; https://www.youtube.com/watch?v=E6qGqbyXpx8 &ldquo\;Calling Occupants&rdquo\; https://www.youtube.com/watch?v=qWP1IPwvhIs Tickets will go on sale Tuesday April 4\, 2023 Copy and paste the link below to purchase tickets. https://www.ticketmaster.com/event/05005E78D53B5C43
LOCATION:Paramount Theatre
UID:e.1371.12489
SEQUENCE:3
DTSTAMP:20260423T034403Z
URL:http://business.madisoncountyalliance.org/events/details/the-carpenter-s-project-an-offering-12489
END:VEVENT

END:VCALENDAR
