BEGIN:VCALENDAR
VERSION:2.0
PRODID:-//ChamberMaster//Event Calendar 2.0//EN
METHOD:PUBLISH
X-PUBLISHED-TTL:P3D
REFRESH-INTERVAL:P3D
CALSCALE:GREGORIAN
BEGIN:VEVENT
DTSTART:20260228T170000Z
DTEND:20260301T030000Z
X-MICROSOFT-CDO-ALLDAYEVENT:FALSE
SUMMARY:Transient Beer Event
DESCRIPTION:Join us on Saturday\, February 28th\, for an exciting beer event featuring a curated lineup of Transient Artisan Ales! Explore a wide variety of unique and flavorful brews crafted by this renowned brewery. Whether you're a craft beer enthusiast or just looking to try something new\, this is the perfect opportunity to sample and discover amazing flavors. Enjoy great company and delicious beer while talking with fellow beer lovers! Mark your calendars and bring your friends for a fun-filled day of libations! We can't wait to see you there! Cheers! ????
X-ALT-DESC;FMTTYPE=text/html:Join us on Saturday\, February 28th\, for an exciting beer event featuring a curated lineup of Transient Artisan Ales! Explore a wide variety of unique and flavorful brews crafted by this renowned brewery. Whether you&#39\;re a craft beer enthusiast or just looking to try something new\, this is the perfect opportunity to sample and discover amazing flavors. Enjoy great company and delicious beer while talking with fellow beer lovers! Mark your calendars and bring your friends for a fun-filled day of libations! We can&rsquo\;t wait to see you there! Cheers! ????
LOCATION:Creatures of Habit 1031 Meridian Street Downtown Anderson
UID:e.1371.19180
SEQUENCE:3
DTSTAMP:20260421T042717Z
URL:http://business.madisoncountyalliance.org/events/details/transient-beer-event-19180
END:VEVENT

END:VCALENDAR
