BEGIN:VCALENDAR
VERSION:2.0
PRODID:-//ChamberMaster//Event Calendar 2.0//EN
METHOD:PUBLISH
X-PUBLISHED-TTL:P3D
REFRESH-INTERVAL:P3D
CALSCALE:GREGORIAN
BEGIN:VEVENT
DTSTART:20250918T233000Z
DTEND:20250919T013000Z
X-MICROSOFT-CDO-ALLDAYEVENT:FALSE
SUMMARY:Trivia Night
DESCRIPTION:Join us every Thursday at 7:30 PM for our weekly live trivia night with Mikey from Smarty Pants Trivia! ???? It's free to play\, fun for everyone\, and you could win some awesome prizes! Don't miss out bring your friends and test your knowledge. See you there! #TriviaNight #CreaturesBrew #SmartyPants
X-ALT-DESC;FMTTYPE=text/html:Join us every Thursday at 7:30 PM for our weekly live trivia night with Mikey from Smarty Pants Trivia! ???? It&#39\;s free to play\, fun for everyone\, and you could win some awesome prizes! Don&#39\;t miss out&mdash\;bring your friends and test your knowledge. See you there! #TriviaNight #CreaturesBrew #SmartyPants
LOCATION:Creatures of Habit Brewing Co. 1031 Meridian St. Downtown Anderson
UID:e.1371.19143
SEQUENCE:3
DTSTAMP:20260421T114536Z
URL:http://business.madisoncountyalliance.org/events/details/trivia-night-19143
END:VEVENT

END:VCALENDAR
