BEGIN:VCALENDAR
VERSION:2.0
PRODID:-//ChamberMaster//Event Calendar 2.0//EN
METHOD:PUBLISH
X-PUBLISHED-TTL:P3D
REFRESH-INTERVAL:P3D
CALSCALE:GREGORIAN
BEGIN:VEVENT
DTSTART:20251028T220000Z
DTEND:20251029T000000Z
X-MICROSOFT-CDO-ALLDAYEVENT:FALSE
SUMMARY:Trunk or Treat
DESCRIPTION:Trunk or Treat   October 28 | 6 8 PM Join us for a night of candy\, costumes\, and community fun! Enjoy decorated trunks\, a trunk contest\, costume contests for all ages\, a photo booth\, and concessions available for purchase. Safe\, family-friendly fun for everyone!
X-ALT-DESC;FMTTYPE=text/html:Trunk or Treat &ndash\; October 28 | 6&ndash\;8 PM Join us for a night of candy\, costumes\, and community fun! Enjoy decorated trunks\, a trunk contest\, costume contests for all ages\, a photo booth\, and concessions available for purchase. Safe\, family-friendly fun for everyone!
LOCATION:3737 Scatterfield Rd Anderson\, IN 46013
UID:e.1371.19150
SEQUENCE:3
DTSTAMP:20260421T101417Z
URL:http://business.madisoncountyalliance.org/events/details/trunk-or-treat-10-28-2025-19150
END:VEVENT

END:VCALENDAR
