BEGIN:VCALENDAR
VERSION:2.0
PRODID:-//ChamberMaster//Event Calendar 2.0//EN
METHOD:PUBLISH
X-PUBLISHED-TTL:P3D
REFRESH-INTERVAL:P3D
CALSCALE:GREGORIAN
BEGIN:VEVENT
DTSTART:20230316T113000Z
DTEND:20230316T130000Z
X-MICROSOFT-CDO-ALLDAYEVENT:FALSE
SUMMARY:Wake Up! With the Chamber
DESCRIPTION:Wake Up!  With the Chamber\n\nThe Community Center @AFC\n\n2324 Jackson Street\, Anderson\n\n\n\nPresented by Flagship Enterprise Center\n\n\n\nGuest Speaker:  Elaine Bedel\n\nSecretary & CEO of the Indiana Destination Development Corporation\n\nThursday\, March 16th\n\n7:30 a.m.\n\nThe Community Center at AFC\n\nCatering sponsored by Nameless Catering\n \n\nElaine Bedel was appointed by Governor Holcomb in 2019 to serve as the first Secretary and Chief Executive Officer of the newly established Indiana Destination Development Corporation (IDDC)\, a quasi-government agency focused on making Indiana a great place to live and visit and to learn and earn.\n\nPrior to her recent appointment\, Bedel served as President of the Indiana Economic Development Corporation (IEDC)\, the state's lead economic development agency from 2017-2019. Under Bedel's leadership\, the state had consecutive record-breaking years for new job commitments.\n\nPrior to serving the state\, Bedel served as President and Chief Executive Officer of Bedel Financial Consulting Inc.\, a role held since she founded the company in 1989.\n\nBedel\, who resides in Indianapolis\, is an author of a personal finance book and has spoken nationally and internationally sharing her interpersonal and financial expertise and experience. Bedel earned a bachelor's degree from Hanover College and an MBA from Butler University.\n\nThroughout her career\, Bedel has been recognized for dedication to her profession and her community. She was inducted into the Indiana Academy of Arts and Sciences in 2016 and was recognized as the 2015 Women Business Owner of the year by the National Association of Women Business Owners (NAWBO). Bedel was inducted into the Business Hall of Fame by the Junior Achievement of Central Indiana and received the Financial Planning Association's "Heart of Financial Planning" Award in 2013.\n\n\n\n\n\n\n\n\n\n\n\n\n\n\n\n\n\n\n\n\n\n\n\n\n\n\nLOCATION\n\nThe Community Center @AFC\n\n2300 Jackson Street\, Anderson\n\n\n\n\n\n\n\n\n\n\n\n\n\nTIME\n\n7:30 AM to 9:00 AM\n\n\n\nINDIVIDUAL TICKETS\n\n\n\nIncludes full breakfast\, program\, and networking\n\n\n\n\n\nWAKE UP! WITH THE CHAMBER\n\nFor more than 35 years\, Wake Up! has successfully connected thousands of Madison County business professionals and community leaders. This event reaches out to link business executives\, decision makers\, heads of industry\, and non-profits county-wide across the region. Wake Up! with the Chamber offers networking\, exposure\, and community information.
X-ALT-DESC;FMTTYPE=text/html:<div style="text-align: center\;"><span style="font-size:24px\;">Wake Up!&nbsp\; With the Chamber<br />\nThe Community Center @AFC<br />\n2324 Jackson Street\, Anderson<br />\n<br />\nPresented by Flagship Enterprise Center<br />\n<br />\nGuest Speaker:&nbsp\; Elaine Bedel<br />\nSecretary &amp\; CEO of the Indiana Destination Development Corporation</span></div>\n\n<div style="text-align: center\;"><span style="font-size:20px\;">Thursday\, March 16th<br />\n7:30 a.m.<br />\nThe Community Center at AFC<br />\nCatering sponsored by Nameless Catering</span></div>\n&nbsp\;\n\n<p 1600px="" auto="" background-color:="" margin-left:="" margin-right:="" max-width:="" open="" style="box-sizing: inherit\; margin-top: 0px\; margin-bottom: 1rem\; padding: 0px\; font-size: 16px\; line-height: 1.6\; text-rendering: optimizelegibility\; outline: none\; color: rgb(10\, 10\, 10)\; font-family: ">Elaine Bedel was appointed by Governor Holcomb in 2019 to serve as the first Secretary and Chief Executive Officer of the newly established Indiana Destination Development Corporation (IDDC)\, a quasi-government agency focused on making Indiana a great place to live and visit and to learn and earn.</p>\n\n<p 1600px="" auto="" background-color:="" margin-left:="" margin-right:="" max-width:="" open="" style="box-sizing: inherit\; margin-top: 0px\; margin-bottom: 1rem\; padding: 0px\; font-size: 16px\; line-height: 1.6\; text-rendering: optimizelegibility\; outline: none\; color: rgb(10\, 10\, 10)\; font-family: ">Prior to her recent appointment\, Bedel served as President of the Indiana Economic Development Corporation (IEDC)\, the state&rsquo\;s lead economic development agency from 2017-2019. Under Bedel&rsquo\;s leadership\, the state had consecutive record-breaking years for new job commitments.</p>\n\n<p 1600px="" auto="" background-color:="" margin-left:="" margin-right:="" max-width:="" open="" style="box-sizing: inherit\; margin-top: 0px\; margin-bottom: 1rem\; padding: 0px\; font-size: 16px\; line-height: 1.6\; text-rendering: optimizelegibility\; outline: none\; color: rgb(10\, 10\, 10)\; font-family: ">Prior to serving the state\, Bedel served as President and Chief Executive Officer of Bedel Financial Consulting Inc.\, a role held since she founded the company in 1989.</p>\n\n<p 1600px="" auto="" background-color:="" margin-left:="" margin-right:="" max-width:="" open="" style="box-sizing: inherit\; margin-top: 0px\; margin-bottom: 1rem\; padding: 0px\; font-size: 16px\; line-height: 1.6\; text-rendering: optimizelegibility\; outline: none\; color: rgb(10\, 10\, 10)\; font-family: ">Bedel\, who resides in Indianapolis\, is an author of a personal finance book and has spoken nationally and internationally sharing her interpersonal and financial expertise and experience. Bedel earned a bachelor&rsquo\;s degree from Hanover College and an MBA from Butler University.</p>\n\n<p 1600px="" auto="" background-color:="" margin-left:="" margin-right:="" max-width:="" open="" style="box-sizing: inherit\; margin-top: 0px\; margin-bottom: 1rem\; padding: 0px\; font-size: 16px\; line-height: 1.6\; text-rendering: optimizelegibility\; outline: none\; color: rgb(10\, 10\, 10)\; font-family: ">Throughout her career\, Bedel has been recognized for dedication to her profession and her community. She was inducted into the Indiana Academy of Arts and Sciences in 2016 and was recognized as the 2015 Women Business Owner of the year by the National Association of Women Business Owners (NAWBO). Bedel was inducted into the Business Hall of Fame by the Junior Achievement of Central Indiana and received the Financial Planning Association&rsquo\;s &ldquo\;Heart of Financial Planning&rdquo\; Award in 2013.</p>\n<br />\n<br />\n<br />\n<br />\n<br />\n<br />\n<br />\n<br />\n<br />\n<br style="font-family: arial\; font-size: 14px\;" />\n<br />\n<br />\n<br />\n<span style="font-size:14px\;"><span style="font-family:arial\;"><span style="font-size:16px\;"><span style="color: rgb(255\, 140\, 0)\;"><strong>LOCATION</strong></span></span><br />\nThe Community Center @AFC<br />\n2300 Jackson Street\, Anderson<br />\n<br />\n<br />\n<br />\n<br />\n<br />\n<br />\n<strong><span style="color: rgb(255\, 140\, 0)\;">TIME</span></strong><br />\n7:30 AM to 9:00 AM<br />\n<br />\n<strong><span style="color: rgb(255\, 140\, 0)\;">INDIVIDUAL TICKETS</span></strong><br />\n<br />\n<em>Includes full breakfast\, program\, and networking</em></span><br />\n<br />\n<br />\n<span style="font-family: arial\;"><strong><span style="color: rgb(255\, 140\, 0)\;">WAKE UP! WITH THE CHAMBER</span></strong><br />\nFor more than 35 years\, Wake Up! has successfully connected thousands of Madison County business professionals and community leaders. This event reaches out to link business executives\, decision makers\, heads of industry\, and non-profits county-wide across the region. Wake Up! with the Chamber offers networking\, exposure\, and community information.</span></span><br />\n<br />\n<br />\n<br />\n<br />\n<br />\n<br />\n<br />\n<br />\n<br />\n<br />\n<br />\n&nbsp\;
LOCATION:The Community Center at AFC 2300 Jackson Street Anderson\, IN 46016
UID:e.1371.12475
SEQUENCE:3
DTSTAMP:20260423T070438Z
URL:http://business.madisoncountyalliance.org/events/details/wake-up-with-the-chamber-12475
END:VEVENT

END:VCALENDAR
