BEGIN:VCALENDAR
VERSION:2.0
PRODID:-//ChamberMaster//Event Calendar 2.0//EN
METHOD:PUBLISH
X-PUBLISHED-TTL:P3D
REFRESH-INTERVAL:P3D
CALSCALE:GREGORIAN
BEGIN:VEVENT
DTSTART:20230816T113000Z
DTEND:20230816T130000Z
X-MICROSOFT-CDO-ALLDAYEVENT:FALSE
SUMMARY:Wake Up! With the Chamber
DESCRIPTION:Wake Up!  with the Chamber\n\nAugust 16th at 7:30 a.m.\n\nPurdue Polytechnic\n\n1920 Purdue Parkway\, Anderson\n\n\n\n\n\n\n\n \n\n\n\n\n\n\n\n\n\n\n\n\n\n\n\n\n\n\n\n\n\n\n\n\n\n\nLOCATION\n\nPurdue Polytechnic\n\n1920 Purdue Parkway\n\n\n\n\n\n\n\n\n\n\n\n\n\nTIME\n\n7:30 AM to 9:00 AM\n\n\n\nINDIVIDUAL TICKETS\n\n\n\nIncludes full breakfast\, program\, and networking\n\n\n\n\n\nWAKE UP! WITH THE CHAMBER\n\nFor more than 35 years\, Wake Up! has successfully connected thousands of Madison County business professionals and community leaders. This event reaches out to link business executives\, decision makers\, heads of industry\, and non-profits county-wide across the region. Wake Up! with the Chamber offers networking\, exposure\, and community information.
X-ALT-DESC;FMTTYPE=text/html:<div style="text-align: center\;">Wake Up!&nbsp\; with the Chamber<br />\nAugust 16th at 7:30 a.m.<br />\nPurdue Polytechnic<br />\n1920 Purdue Parkway\, Anderson<br />\n<br />\n<br />\n<br />\n&nbsp\;</div>\n<br />\n<br />\n<br />\n<br />\n<br />\n<br />\n<br />\n<br />\n<br />\n<br style="font-family: arial\; font-size: 14px\;" />\n<br />\n<br />\n<br />\n<span style="font-size:14px\;"><span style="font-family:arial\;"><span style="font-size:16px\;"><span style="color: rgb(255\, 140\, 0)\;"><strong>LOCATION</strong></span></span><br />\nPurdue Polytechnic<br />\n1920 Purdue Parkway<br />\n<br />\n<br />\n<br />\n<br />\n<br />\n<br />\n<strong><span style="color: rgb(255\, 140\, 0)\;">TIME</span></strong><br />\n7:30 AM to 9:00 AM<br />\n<br />\n<strong><span style="color: rgb(255\, 140\, 0)\;">INDIVIDUAL TICKETS</span></strong><br />\n<br />\n<em>Includes full breakfast\, program\, and networking</em></span><br />\n<br />\n<br />\n<span style="font-family: arial\;"><strong><span style="color: rgb(255\, 140\, 0)\;">WAKE UP! WITH THE CHAMBER</span></strong><br />\nFor more than 35 years\, Wake Up! has successfully connected thousands of Madison County business professionals and community leaders. This event reaches out to link business executives\, decision makers\, heads of industry\, and non-profits county-wide across the region. Wake Up! with the Chamber offers networking\, exposure\, and community information.</span></span><br />\n<br />\n<br />\n<br />\n<br />\n<br />\n<br />\n<br />\n<br />\n<br />\n<br />\n<br />\n&nbsp\;
LOCATION:Purdue Polytechnic 1920 Purdue Parkway\, Ande4rson
UID:e.1371.18331
SEQUENCE:3
DTSTAMP:20260422T232728Z
URL:http://business.madisoncountyalliance.org/events/details/wake-up-with-the-chamber-18331
END:VEVENT

END:VCALENDAR
