BEGIN:VCALENDAR
VERSION:2.0
PRODID:-//ChamberMaster//Event Calendar 2.0//EN
METHOD:PUBLISH
X-PUBLISHED-TTL:P3D
REFRESH-INTERVAL:P3D
CALSCALE:GREGORIAN
BEGIN:VEVENT
DTSTART:20250918T113000Z
DTEND:20250918T130000Z
X-MICROSOFT-CDO-ALLDAYEVENT:FALSE
SUMMARY:Wake Up! With the Chamber
DESCRIPTION:Registration Closed\n\nWake Up!  with the Chamber\n\nSeptember 18\, 2025\n\n7:30 a.m.\n\nGuest Speaker:  Colin Skidmore\n\nSenior Vice President & General Manager of Harrah's Hoosier Park\n\nPurdue Polytechnic\n\n1920 Purdue Parkway\n\nAnderson\, IN 46016\n\n\n\n\n\n\n\n\n\n\n\n\n\n\n\n\n\n\n\n\n\n\n\n \n\n\n\n\n\n\n\n\n\n\n\n\n\n\n\n\n\n\n\n\n\n\n\n\n\n\n\n\n\n\n\n\n\n\nTIME\n\n7:30 AM to 9:00 AM\n\n\n\nINDIVIDUAL TICKETS\n\n\n\nIncludes full breakfast\, program\, and networking\n\n\n\n\n\nWAKE UP! WITH THE CHAMBER\n\nFor more than 40 years\, Wake Up! has successfully connected thousands of Madison County business professionals and community leaders. This event reaches out to link business executives\, decision makers\, heads of industry\, and non-profits county-wide across the region. Wake Up! with the Chamber offers networking\, exposure\, and community information.
X-ALT-DESC;FMTTYPE=text/html:<div style="text-align: center\;"><span style="font-size:18px\;"><strong>Registration Closed</strong></span><br />\nWake Up!&nbsp\; with the Chamber<br />\nSeptember 18\, 2025<br />\n7:30 a.m.<br />\nGuest Speaker:&nbsp\; Colin Skidmore<br />\nSenior Vice President &amp\; General Manager of Harrah&#39\;s Hoosier Park<br />\nPurdue Polytechnic<br />\n1920 Purdue Parkway<br />\nAnderson\, IN 46016<br />\n<br />\n<br />\n<br />\n<br />\n<br />\n<br />\n<br />\n<br />\n<br />\n<br />\n<br />\n&nbsp\;</div>\n<br />\n<br />\n<br />\n<br />\n<br />\n<br />\n<br />\n<br />\n<br />\n<br style="font-family: arial\; font-size: 14px\;" />\n<br />\n<br />\n<br />\n<br />\n<br />\n<br />\n<br />\n<span style="font-size:14px\;"><span style="font-family:arial\;"><strong><span style="color: rgb(255\, 140\, 0)\;">TIME</span></strong><br />\n7:30 AM to 9:00 AM<br />\n<br />\n<strong><span style="color: rgb(255\, 140\, 0)\;">INDIVIDUAL TICKETS</span></strong><br />\n<br />\n<em>Includes full breakfast\, program\, and networking</em></span><br />\n<br />\n<br />\n<span style="font-family: arial\;"><strong><span style="color: rgb(255\, 140\, 0)\;">WAKE UP! WITH THE CHAMBER</span></strong><br />\nFor more than 40 years\, Wake Up! has successfully connected thousands of Madison County business professionals and community leaders. This event reaches out to link business executives\, decision makers\, heads of industry\, and non-profits county-wide across the region. Wake Up! with the Chamber offers networking\, exposure\, and community information.</span></span><br />\n<br />\n<br />\n<br />\n<br />\n<br />\n<br />\n<br />\n<br />\n<br />\n<br />\n<br />\n&nbsp\;
LOCATION:Purdue Polytechnic 1920 Purdue Parkway Anderson\, IN 46016
UID:e.1371.19138
SEQUENCE:3
DTSTAMP:20260421T112842Z
URL:http://business.madisoncountyalliance.org/events/details/wake-up-with-the-chamber-19138
END:VEVENT

END:VCALENDAR
