BEGIN:VCALENDAR
VERSION:2.0
PRODID:-//ChamberMaster//Event Calendar 2.0//EN
METHOD:PUBLISH
X-PUBLISHED-TTL:P3D
REFRESH-INTERVAL:P3D
CALSCALE:GREGORIAN
BEGIN:VEVENT
DTSTART:20251204T123000Z
DTEND:20251204T140000Z
X-MICROSOFT-CDO-ALLDAYEVENT:FALSE
SUMMARY:Wake Up! With the Chamber
DESCRIPTION:Wake Up!  with the Chamber\n\n\n\nDecember 4\, 2025\n\n7:30 a.m.\n\nGuest Speaker:  Guest Speaker:  Dr. Katie Jenner\n\nIndiana Secretary of Education\n\n\n\nIntroduction of our 20 Under 40 Local Business Leaders\n \nLocation:  The Paramount Theater\n\n1124 Meridian Street\, Anderson\n\n\n\n\n\n\n\n\n\n\n\n\n\n\n\n\n\n\n\n\n\n \n\n\n\n\n\n\n\n\n\n\n\n\n\n\n\n\n\n\n\n\n\n\n\n\n\n\n\n\n\n\n\n\n\n\nTIME\n\n7:30 AM to 9:00 AM\n\n\n\nINDIVIDUAL TICKETS\n\n\n\nIncludes full breakfast\, program\, and networking\n\n\n\n\n\nWAKE UP! WITH THE CHAMBER\n\nFor more than 40 years\, Wake Up! has successfully connected thousands of Madison County business professionals and community leaders. This event reaches out to link business executives\, decision makers\, heads of industry\, and non-profits county-wide across the region. Wake Up! with the Chamber offers networking\, exposure\, and community information.
X-ALT-DESC;FMTTYPE=text/html:<div style="text-align: center\;"><br>\nWake Up!&nbsp\; with the Chamber<br>\n<br>\nDecember 4\, 2025<br>\n7:30 a.m.<br>\nGuest Speaker:&nbsp\;&nbsp\;<span background-color:="" font-size:="" style="color: rgb(51\, 51\, 51)\; font-family: sans-serif\, Arial\, Verdana\, " text-align:="" trebuchet="">Guest Speaker:&nbsp\; Dr. Katie Jenner</span><br background-color:="" font-size:="" style="color: rgb(51\, 51\, 51)\; font-family: sans-serif\, Arial\, Verdana\, " text-align:="" trebuchet="">\n<span background-color:="" font-size:="" style="color: rgb(51\, 51\, 51)\; font-family: sans-serif\, Arial\, Verdana\, " text-align:="" trebuchet="">Indiana Secretary of Education<br>\n<br>\nIntroduction of our 20 Under 40 Local Business Leaders</span>\n<div>&nbsp\;</div>\nLocation:&nbsp\; The Paramount Theater<br>\n1124 Meridian Street\, Anderson<br>\n<br>\n<br>\n<br>\n<br>\n<br>\n<br>\n<br>\n<br>\n<br>\n<br>\n&nbsp\;</div>\n<br>\n<br>\n<br>\n<br>\n<br>\n<br>\n<br>\n<br>\n<br>\n<br style="font-family: arial\; font-size: 14px\;">\n<br>\n<br>\n<br>\n<br>\n<br>\n<br>\n<br>\n<span style="font-size:14px\;"><span style="font-family:arial\;"><strong><span style="color: rgb(255\, 140\, 0)\;">TIME</span></strong><br>\n7:30 AM to 9:00 AM<br>\n<br>\n<strong><span style="color: rgb(255\, 140\, 0)\;">INDIVIDUAL TICKETS</span></strong><br>\n<br>\n<em>Includes full breakfast\, program\, and networking</em></span><br>\n<br>\n<br>\n<span style="font-family: arial\;"><strong><span style="color: rgb(255\, 140\, 0)\;">WAKE UP! WITH THE CHAMBER</span></strong><br>\nFor more than 40 years\, Wake Up! has successfully connected thousands of Madison County business professionals and community leaders. This event reaches out to link business executives\, decision makers\, heads of industry\, and non-profits county-wide across the region. Wake Up! with the Chamber offers networking\, exposure\, and community information.</span></span><br>\n<br>\n<br>\n<br>\n<br>\n<br>\n<br>\n<br>\n<br>\n<br>\n<br>\n<br>\n&nbsp\;
LOCATION:The Paramount Theater 1124 Meridian Street Anderson\, IN 46016
UID:e.1371.19151
SEQUENCE:3
DTSTAMP:20260421T065713Z
URL:http://business.madisoncountyalliance.org/events/details/wake-up-with-the-chamber-19151
END:VEVENT

END:VCALENDAR
