BEGIN:VCALENDAR
VERSION:2.0
PRODID:-//ChamberMaster//Event Calendar 2.0//EN
METHOD:PUBLISH
X-PUBLISHED-TTL:P3D
REFRESH-INTERVAL:P3D
CALSCALE:GREGORIAN
BEGIN:VEVENT
DTSTART:20240518T140000Z
DTEND:20240518T160000Z
X-MICROSOFT-CDO-ALLDAYEVENT:FALSE
SUMMARY:Walk for Life
DESCRIPTION:First Choice for Women will hold its Walk for Life fundraiser on Saturday\, May 18\, from 10:00 am to 12:00 pm. Find friends & family to sponsor your walk with pledge contributions and walk 1 mile on your own or with family & friends at Mounds State Park. For more information or to register online visit www.firstchoiceforwomen.org or contact First Choice at 765-286-6085.
X-ALT-DESC;FMTTYPE=text/html:First Choice for Women will hold its Walk for Life fundraiser on Saturday\, May 18\, from 10:00 am to 12:00 pm. Find friends &amp\; family to sponsor your walk with pledge contributions and walk 1 mile on your own or with family &amp\; friends at Mounds State Park. For more information or to register online visit www.firstchoiceforwomen.org or contact First Choice at 765-286-6085.
LOCATION:Mounds State Park 4306 Mounds Rd\, Anderson\, IN 46017
UID:e.1371.18859
SEQUENCE:3
DTSTAMP:20260422T104055Z
URL:http://business.madisoncountyalliance.org/events/details/walk-for-life-18859
END:VEVENT

END:VCALENDAR
