BEGIN:VCALENDAR
VERSION:2.0
PRODID:-//ChamberMaster//Event Calendar 2.0//EN
METHOD:PUBLISH
X-PUBLISHED-TTL:P3D
REFRESH-INTERVAL:P3D
CALSCALE:GREGORIAN
BEGIN:VEVENT
DTSTART:20241110T190000Z
DTEND:20241110T203000Z
X-MICROSOFT-CDO-ALLDAYEVENT:FALSE
SUMMARY:Weaving on Handmade Looms Workshop
DESCRIPTION:Learn to make your own loom and weave your own coasters with Nelly DeVault of Fairytale Fibers. Beginners are welcome. You will be able to take your loom home with you to continue making sets of coasters and small fabric pieces for gifts throughout the holidays.
X-ALT-DESC;FMTTYPE=text/html:Learn to make your own loom and weave your own coasters with Nelly DeVault of Fairytale Fibers. Beginners are welcome. You will be able to take your loom home with you to continue making sets of coasters and small fabric pieces for gifts throughout the holidays.
LOCATION:Anderson Museum of Art
UID:e.1371.18939
SEQUENCE:3
DTSTAMP:20260422T013944Z
URL:http://business.madisoncountyalliance.org/events/details/weaving-on-handmade-looms-workshop-18939
END:VEVENT

END:VCALENDAR
