BEGIN:VCALENDAR
VERSION:2.0
PRODID:-//ChamberMaster//Event Calendar 2.0//EN
METHOD:PUBLISH
X-PUBLISHED-TTL:P3D
REFRESH-INTERVAL:P3D
CALSCALE:GREGORIAN
BEGIN:VEVENT
DTSTART:20260228T180000Z
DTEND:20260228T210000Z
X-MICROSOFT-CDO-ALLDAYEVENT:FALSE
SUMMARY:Wedding Vendor Fair
DESCRIPTION:Join Us for Our Wedding Vendor Fair! We are excited to invite all wedding industry professionals to participate in our upcoming Wedding Vendor Fair on February 28 from 1 4 PM. This is a wonderful opportunity to showcase your products or services\, connect with engaged couples planning their big day\, and network with other exceptional wedding professionals. We're seeking a diverse range of vendors\, including florists\, photographers\, cake designers\, caterers\, hair and makeup artists\, and more. If you're passionate about what you do\, we'd love to have you be part of this special event! Reserve Your Spot: Tickets can be purchased at: https://givebutter.com/mGTrm5 Questions? Please contact our Events & Engagement Manager\, Adelynn\, at adelynn@andersonart.org We look forward to showcasing your talent and helping couples bring their dream wedding to life!
X-ALT-DESC;FMTTYPE=text/html:Join Us for Our Wedding Vendor Fair! We are excited to invite all wedding industry professionals to participate in our upcoming Wedding Vendor Fair on February 28 from 1&ndash\;4 PM. This is a wonderful opportunity to showcase your products or services\, connect with engaged couples planning their big day\, and network with other exceptional wedding professionals. We&rsquo\;re seeking a diverse range of vendors\, including florists\, photographers\, cake designers\, caterers\, hair and makeup artists\, and more. If you&rsquo\;re passionate about what you do\, we&rsquo\;d love to have you be part of this special event! Reserve Your Spot: Tickets can be purchased at: https://givebutter.com/mGTrm5 Questions? Please contact our Events &amp\; Engagement Manager\, Adelynn\, at adelynn@andersonart.org We look forward to showcasing your talent and helping couples bring their dream wedding to life!
LOCATION:Anderson Museum of Art
UID:e.1371.19164
SEQUENCE:3
DTSTAMP:20260421T040645Z
URL:http://business.madisoncountyalliance.org/events/details/wedding-vendor-fair-19164
END:VEVENT

END:VCALENDAR
